BEGIN:VCALENDAR
VERSION:2.0
PRODID:-//Lindenwood Park - ECPv6.15.20//NONSGML v1.0//EN
CALSCALE:GREGORIAN
METHOD:PUBLISH
X-WR-CALNAME:Lindenwood Park
X-ORIGINAL-URL:https://lindenwoodpark.org
X-WR-CALDESC:Events for Lindenwood Park
REFRESH-INTERVAL;VALUE=DURATION:PT1H
X-Robots-Tag:noindex
X-PUBLISHED-TTL:PT1H
BEGIN:VTIMEZONE
TZID:America/Chicago
BEGIN:DAYLIGHT
TZOFFSETFROM:-0600
TZOFFSETTO:-0500
TZNAME:CDT
DTSTART:20250309T080000
END:DAYLIGHT
BEGIN:STANDARD
TZOFFSETFROM:-0500
TZOFFSETTO:-0600
TZNAME:CST
DTSTART:20251102T070000
END:STANDARD
BEGIN:DAYLIGHT
TZOFFSETFROM:-0600
TZOFFSETTO:-0500
TZNAME:CDT
DTSTART:20260308T080000
END:DAYLIGHT
BEGIN:STANDARD
TZOFFSETFROM:-0500
TZOFFSETTO:-0600
TZNAME:CST
DTSTART:20261101T070000
END:STANDARD
BEGIN:DAYLIGHT
TZOFFSETFROM:-0600
TZOFFSETTO:-0500
TZNAME:CDT
DTSTART:20270314T080000
END:DAYLIGHT
BEGIN:STANDARD
TZOFFSETFROM:-0500
TZOFFSETTO:-0600
TZNAME:CST
DTSTART:20271107T070000
END:STANDARD
END:VTIMEZONE
BEGIN:VEVENT
DTSTART;TZID=America/Chicago:20261110T180000
DTEND;TZID=America/Chicago:20261110T190000
DTSTAMP:20260424T213137
CREATED:20260105T161941Z
LAST-MODIFIED:20260105T161941Z
UID:10398-1794333600-1794337200@lindenwoodpark.org
SUMMARY:LPNA Block Captain Meeting
DESCRIPTION:The Block Captain program is chaired by Laurie Klein. If you think you might be interested in becoming a Block Captain please complete this form or email blockcaptains@lindenwoodpark.org. Laurie will contact you to provide further information and answer any questions you might have.
URL:https://lindenwoodpark.org/events/lpna-block-captain-meeting-2/
LOCATION:Timothy Lutheran Church\, 6704 Fyler Ave.\, Saint Louis\, MO\, 63139\, United States
CATEGORIES:Association Events
ORGANIZER;CN="Laurie Klein":MAILTO:blockcaptains@lindenwoodpark.org
END:VEVENT
BEGIN:VEVENT
DTSTART;TZID=America/Chicago:20261121T100000
DTEND;TZID=America/Chicago:20261121T120000
DTSTAMP:20260424T213137
CREATED:20260105T145518Z
LAST-MODIFIED:20260105T145518Z
UID:10389-1795255200-1795262400@lindenwoodpark.org
SUMMARY:LPNA Board Meeting
DESCRIPTION:Board meetings are open to the public. If you would like to attend\, please email Adam Rustige\, adam@lindenwoodpark.org.
URL:https://lindenwoodpark.org/events/lpna-board-meeting-43/
LOCATION:Machacek Library\, 6424 Scanlan Ave\, Saint Louis\, 63139\, United States
CATEGORIES:Association Events
ORGANIZER;CN="Adam Rustige":MAILTO:adam@lindenwoodpark.org
END:VEVENT
BEGIN:VEVENT
DTSTART;TZID=America/Chicago:20261124T180000
DTEND;TZID=America/Chicago:20261124T200000
DTSTAMP:20260424T213137
CREATED:20260119T193133Z
LAST-MODIFIED:20260119T193133Z
UID:10453-1795543200-1795550400@lindenwoodpark.org
SUMMARY:Meetup At Trattoria Marcella
DESCRIPTION:Are you new to our neighborhood and curious about what a meetup is?  It’s just a happy hour\, a time to chill\, a chance to meet people from our neighborhood\, an opportunity to try out a local restaurant that you perhaps have never been to before.  There’s no agenda.  It’s not a “meeting”.  Stay as long as you like but pay for your own food and drinks.
URL:https://lindenwoodpark.org/events/meetup-at-trattoria-marcella-3/
LOCATION:Trattoria Marcella\, 3600 Watson Road\, Saint Louis\, 63139\, United States
CATEGORIES:Neighborhood Events
ORGANIZER;CN="Lisa Roggeman":MAILTO:lisa@lindenwoodpark.org
END:VEVENT
END:VCALENDAR