BEGIN:VCALENDAR
VERSION:2.0
PRODID:-//Lindenwood Park - ECPv6.15.20//NONSGML v1.0//EN
CALSCALE:GREGORIAN
METHOD:PUBLISH
X-WR-CALNAME:Lindenwood Park
X-ORIGINAL-URL:https://lindenwoodpark.org
X-WR-CALDESC:Events for Lindenwood Park
REFRESH-INTERVAL;VALUE=DURATION:PT1H
X-Robots-Tag:noindex
X-PUBLISHED-TTL:PT1H
BEGIN:VTIMEZONE
TZID:America/Chicago
BEGIN:DAYLIGHT
TZOFFSETFROM:-0600
TZOFFSETTO:-0500
TZNAME:CDT
DTSTART:20250309T080000
END:DAYLIGHT
BEGIN:STANDARD
TZOFFSETFROM:-0500
TZOFFSETTO:-0600
TZNAME:CST
DTSTART:20251102T070000
END:STANDARD
BEGIN:DAYLIGHT
TZOFFSETFROM:-0600
TZOFFSETTO:-0500
TZNAME:CDT
DTSTART:20260308T080000
END:DAYLIGHT
BEGIN:STANDARD
TZOFFSETFROM:-0500
TZOFFSETTO:-0600
TZNAME:CST
DTSTART:20261101T070000
END:STANDARD
BEGIN:DAYLIGHT
TZOFFSETFROM:-0600
TZOFFSETTO:-0500
TZNAME:CDT
DTSTART:20270314T080000
END:DAYLIGHT
BEGIN:STANDARD
TZOFFSETFROM:-0500
TZOFFSETTO:-0600
TZNAME:CST
DTSTART:20271107T070000
END:STANDARD
END:VTIMEZONE
BEGIN:VEVENT
DTSTART;TZID=America/Chicago:20260905T090000
DTEND;TZID=America/Chicago:20260905T100000
DTSTAMP:20260424T175857
CREATED:20260112T203401Z
LAST-MODIFIED:20260112T203401Z
UID:10407-1788598800-1788602400@lindenwoodpark.org
SUMMARY:Green Team Highway Clean-Up
DESCRIPTION:We are looking for volunteers to help pick up trash from along highway I-44 and up to the fenced area.  We generally clean up from the Jamieson exit back towards the bridge (just under a mile).  Trash bags will be provided.  Bring gloves!  The more helpers we have\, the quicker we get done. \nPlease help us keep our neighborhood clean and tidy!  Children are welcome to help but must be accompanied by an adult and will not be allowed close to the highway\, but there’s usually plenty of trash along the fences.  All helpers must wear reflective vests (which will be provided). \n 
URL:https://lindenwoodpark.org/events/green-team-highway-clean-up-19/
LOCATION:I-44 Exit at Jamieson\, Interstate 44 & Jamieson\, St. Louis\, 63139\, United States
CATEGORIES:Association Events
ORGANIZER;CN="Tim Nowell":MAILTO:tim@lindenwoodpark.org
END:VEVENT
BEGIN:VEVENT
DTSTART;TZID=America/Chicago:20260906T180000
DTEND;TZID=America/Chicago:20260906T200000
DTSTAMP:20260424T175857
CREATED:20251110T175641Z
LAST-MODIFIED:20251110T175641Z
UID:10341-1788717600-1788724800@lindenwoodpark.org
SUMMARY:Lindenwood Live!
DESCRIPTION:Gather up your neighbors and friends and come enjoy a great local band. \nAnd don’t forget the food trucks! \nThe food trucks begin serving at 5pm
URL:https://lindenwoodpark.org/events/lindenwood-live-29/
LOCATION:Lindenwood Park\, Pernod Avenue & Jamieson Avenue\, Saint Louis\, 63139\, United States
CATEGORIES:Association Events
ORGANIZER;CN="Greg Roggeman":MAILTO:greg@lindenwoodpark.org
END:VEVENT
BEGIN:VEVENT
DTSTART;TZID=America/Chicago:20260914T190000
DTEND;TZID=America/Chicago:20260914T203000
DTSTAMP:20260424T175857
CREATED:20251110T170121Z
LAST-MODIFIED:20251110T170121Z
UID:10327-1789412400-1789417800@lindenwoodpark.org
SUMMARY:Quarterly Neighborhood Meeting
DESCRIPTION:Neighborhood meetings are held at Watson Terrace Christian Church\, 4205 Watson Road. \nMeetings are open to association members and Lindenwood residents. \nResidents can join the Association for an annual membership fee of $15 per household\, payable at any meeting or online at Lindenwoodpark.org/join.\nMeetings are held quarterly on the first Monday. Mingling begins at 6:30 pm\, the program begins promptly at 7:00 pm and ends by 8:30 pm. Note: The September meeting is held on the 2nd Monday of the month due to the Labor Day Holiday celebrated on the first Monday of September.\nYou can click here to subscribe to the LPNA WebCal on the device you are currently using.
URL:https://lindenwoodpark.org/events/quarterly-neighborhood-meeting-21/
LOCATION:Watson Terrace Christian Church\, 4205 Watson Road\, Saint Louis\, MO\, 63109\, United States
CATEGORIES:Association Events
ORGANIZER;CN="Adam Rustige":MAILTO:adam@lindenwoodpark.org
END:VEVENT
BEGIN:VEVENT
DTSTART;TZID=America/Chicago:20260923T180000
DTEND;TZID=America/Chicago:20260923T200000
DTSTAMP:20260424T175857
CREATED:20260119T192300Z
LAST-MODIFIED:20260119T192300Z
UID:10449-1790186400-1790193600@lindenwoodpark.org
SUMMARY:Meetup At Aya Sofia
DESCRIPTION:Are you new to our neighborhood and curious about what a meetup is?  It’s just a happy hour\, a time to chill\, a chance to meet people from our neighborhood\, an opportunity to try out a local restaurant that you perhaps have never been to before.  There’s no agenda.  It’s not a “meeting”.  Stay as long as you like but pay for your own food and drinks.
URL:https://lindenwoodpark.org/events/meetup-at-aya-sofia-4/
LOCATION:Aya Sofia\, 6671 Chippewa\, Saint Louis\, 63109\, United States
CATEGORIES:Neighborhood Events
ORGANIZER;CN="Lisa Roggeman":MAILTO:lisa@lindenwoodpark.org
END:VEVENT
END:VCALENDAR