BEGIN:VCALENDAR
VERSION:2.0
PRODID:-//Lindenwood Park - ECPv6.15.20//NONSGML v1.0//EN
CALSCALE:GREGORIAN
METHOD:PUBLISH
X-WR-CALNAME:Lindenwood Park
X-ORIGINAL-URL:https://lindenwoodpark.org
X-WR-CALDESC:Events for Lindenwood Park
REFRESH-INTERVAL;VALUE=DURATION:PT1H
X-Robots-Tag:noindex
X-PUBLISHED-TTL:PT1H
BEGIN:VTIMEZONE
TZID:America/Chicago
BEGIN:DAYLIGHT
TZOFFSETFROM:-0600
TZOFFSETTO:-0500
TZNAME:CDT
DTSTART:20250309T080000
END:DAYLIGHT
BEGIN:STANDARD
TZOFFSETFROM:-0500
TZOFFSETTO:-0600
TZNAME:CST
DTSTART:20251102T070000
END:STANDARD
BEGIN:DAYLIGHT
TZOFFSETFROM:-0600
TZOFFSETTO:-0500
TZNAME:CDT
DTSTART:20260308T080000
END:DAYLIGHT
BEGIN:STANDARD
TZOFFSETFROM:-0500
TZOFFSETTO:-0600
TZNAME:CST
DTSTART:20261101T070000
END:STANDARD
BEGIN:DAYLIGHT
TZOFFSETFROM:-0600
TZOFFSETTO:-0500
TZNAME:CDT
DTSTART:20270314T080000
END:DAYLIGHT
BEGIN:STANDARD
TZOFFSETFROM:-0500
TZOFFSETTO:-0600
TZNAME:CST
DTSTART:20271107T070000
END:STANDARD
END:VTIMEZONE
BEGIN:VEVENT
DTSTART;TZID=America/Chicago:20260721T190000
DTEND;TZID=America/Chicago:20260721T210000
DTSTAMP:20260424T144635
CREATED:20260105T141856Z
LAST-MODIFIED:20260105T141856Z
UID:10383-1784660400-1784667600@lindenwoodpark.org
SUMMARY:LPNA Board Meeting
DESCRIPTION:Board meetings are open to the public. If you would like to attend\, please email Adam Rustige\, adam@lindenwoodpark.org.
URL:https://lindenwoodpark.org/events/lpna-board-meeting-40/
LOCATION:Epiphany of our Lord Catholic Church\, 3164 Ivanhoe\, Saint Louis\, 63139\, United States
CATEGORIES:Association Events
ORGANIZER;CN="Adam Rustige":MAILTO:adam@lindenwoodpark.org
END:VEVENT
BEGIN:VEVENT
DTSTART;TZID=America/Chicago:20260722T180000
DTEND;TZID=America/Chicago:20260722T200000
DTSTAMP:20260424T144635
CREATED:20260119T191519Z
LAST-MODIFIED:20260119T191519Z
UID:10445-1784743200-1784750400@lindenwoodpark.org
SUMMARY:Meetup At Biggie's
DESCRIPTION:Are you new to our neighborhood and curious about what a meetup is?  It’s just a happy hour\, a time to chill\, a chance to meet people from our neighborhood\, an opportunity to try out a local restaurant that you perhaps have never been to before.  There’s no agenda.  It’s not a “meeting”.  Stay as long as you like but pay for your own food and drinks.
URL:https://lindenwoodpark.org/events/meetup-at-biggies-4/
LOCATION:Biggie’s\, 3332 Watson\, Saint Louis\, MO\, 63139\, United States
CATEGORIES:Neighborhood Events
ORGANIZER;CN="Lisa Roggeman":MAILTO:lisa@lindenwoodpark.org
END:VEVENT
BEGIN:VEVENT
DTSTART;TZID=America/Chicago:20260725T190000
DTEND;TZID=America/Chicago:20260725T220000
DTSTAMP:20260424T144635
CREATED:20251110T180443Z
LAST-MODIFIED:20251110T180443Z
UID:10343-1785006000-1785016800@lindenwoodpark.org
SUMMARY:LPNA Trivia Night
DESCRIPTION:
URL:https://lindenwoodpark.org/events/lpna-trivia-night-5/
LOCATION:Epiphany of our Lord Catholic Church\, 3164 Ivanhoe\, Saint Louis\, 63139\, United States
CATEGORIES:Association Events
ORGANIZER;CN="Pat Acquisto":MAILTO:pat@lindenwoodpark.org
END:VEVENT
END:VCALENDAR