BEGIN:VCALENDAR
VERSION:2.0
PRODID:-//Lindenwood Park - ECPv6.15.20//NONSGML v1.0//EN
CALSCALE:GREGORIAN
METHOD:PUBLISH
X-WR-CALNAME:Lindenwood Park
X-ORIGINAL-URL:https://lindenwoodpark.org
X-WR-CALDESC:Events for Lindenwood Park
REFRESH-INTERVAL;VALUE=DURATION:PT1H
X-Robots-Tag:noindex
X-PUBLISHED-TTL:PT1H
BEGIN:VTIMEZONE
TZID:America/Chicago
BEGIN:DAYLIGHT
TZOFFSETFROM:-0600
TZOFFSETTO:-0500
TZNAME:CDT
DTSTART:20250309T080000
END:DAYLIGHT
BEGIN:STANDARD
TZOFFSETFROM:-0500
TZOFFSETTO:-0600
TZNAME:CST
DTSTART:20251102T070000
END:STANDARD
BEGIN:DAYLIGHT
TZOFFSETFROM:-0600
TZOFFSETTO:-0500
TZNAME:CDT
DTSTART:20260308T080000
END:DAYLIGHT
BEGIN:STANDARD
TZOFFSETFROM:-0500
TZOFFSETTO:-0600
TZNAME:CST
DTSTART:20261101T070000
END:STANDARD
BEGIN:DAYLIGHT
TZOFFSETFROM:-0600
TZOFFSETTO:-0500
TZNAME:CDT
DTSTART:20270314T080000
END:DAYLIGHT
BEGIN:STANDARD
TZOFFSETFROM:-0500
TZOFFSETTO:-0600
TZNAME:CST
DTSTART:20271107T070000
END:STANDARD
END:VTIMEZONE
BEGIN:VEVENT
DTSTART;TZID=America/Chicago:20260502T090000
DTEND;TZID=America/Chicago:20260502T120000
DTSTAMP:20260424T114842
CREATED:20260406T152932Z
LAST-MODIFIED:20260406T152932Z
UID:10499-1777712400-1777723200@lindenwoodpark.org
SUMMARY:Spring Park Clean-Up
DESCRIPTION:Our biannual fall park clean-up will get Lindenwood Park spruced up and ready for summer events. \nWe value any time you want to volunteer. We meet at 9:00am and generally work until noon\, but will take an hour\, or whatever time you can spare to help. \nPlease bring hand tools such as a rake\, shovel\, or broom\, and gloves. Wheelbarrows are also always helpful. \nTwice a year\, spring and fall\, we get together in the park to tidy up the park. \nThis is a great service project for groups\, if you are looking for an opportunity for your scouts\, school\, club or church.
URL:https://lindenwoodpark.org/events/spring-park-clean-up-6/
LOCATION:Lindenwood Park\, Pernod Avenue & Jamieson Avenue\, Saint Louis\, 63139\, United States
CATEGORIES:Association Events,Neighborhood Events
ORGANIZER;CN="Park Committee":MAILTO:park@lindenwoodpark.org
END:VEVENT
BEGIN:VEVENT
DTSTART;TZID=America/Chicago:20260512T180000
DTEND;TZID=America/Chicago:20260512T190000
DTSTAMP:20260424T114842
CREATED:20260105T161018Z
LAST-MODIFIED:20260105T161018Z
UID:10394-1778608800-1778612400@lindenwoodpark.org
SUMMARY:Block Captain Meeting
DESCRIPTION:The Block Captain program is chaired by Laurie Klein. If you think you might be interested in becoming a Block Captain please complete this form or email blockcaptains@lindenwoodpark.org. Laurie will contact you to provide further information and answer any questions you might have.
URL:https://lindenwoodpark.org/events/block-captain-meeting-20/
LOCATION:Timothy Lutheran Church\, 6704 Fyler Ave.\, Saint Louis\, MO\, 63139\, United States
CATEGORIES:Association Events
ORGANIZER;CN="Laurie Klein":MAILTO:blockcaptains@lindenwoodpark.org
END:VEVENT
BEGIN:VEVENT
DTSTART;TZID=America/Chicago:20260516T070000
DTEND;TZID=America/Chicago:20260516T130000
DTSTAMP:20260424T114842
CREATED:20251110T171355Z
LAST-MODIFIED:20251110T171355Z
UID:10331-1778914800-1778936400@lindenwoodpark.org
SUMMARY:LPNA Flea Market
DESCRIPTION:
URL:https://lindenwoodpark.org/events/lpna-flea-market-4/
LOCATION:Watson Terrace Christian Church\, 4205 Watson Road\, Saint Louis\, MO\, 63109\, United States
CATEGORIES:Association Events
ORGANIZER;CN="Lisa Roggeman":MAILTO:lisa@lindenwoodpark.org
END:VEVENT
BEGIN:VEVENT
DTSTART;TZID=America/Chicago:20260524T180000
DTEND;TZID=America/Chicago:20260524T200000
DTSTAMP:20260424T114842
CREATED:20251110T172722Z
LAST-MODIFIED:20251110T172722Z
UID:10335-1779645600-1779652800@lindenwoodpark.org
SUMMARY:Lindenwood Live!
DESCRIPTION:Gather up your neighbors and friends and come enjoy a great local band. \nAnd don’t forget the food trucks! \nThe food trucks begin serving at 5pm
URL:https://lindenwoodpark.org/events/lindenwood-live-26/
LOCATION:Lindenwood Park\, Pernod Avenue & Jamieson Avenue\, Saint Louis\, 63139\, United States
CATEGORIES:Association Events
ORGANIZER;CN="Greg Roggeman":MAILTO:greg@lindenwoodpark.org
END:VEVENT
BEGIN:VEVENT
DTSTART;TZID=America/Chicago:20260527T180000
DTEND;TZID=America/Chicago:20260527T200000
DTSTAMP:20260424T114842
CREATED:20260119T190743Z
LAST-MODIFIED:20260119T190743Z
UID:10440-1779904800-1779912000@lindenwoodpark.org
SUMMARY:Meetup At Farmhaus
DESCRIPTION:Are you new to our neighborhood and curious about what a meetup is?  It’s just a happy hour\, a time to chill\, a chance to meet people from our neighborhood\, an opportunity to try out a local restaurant that you perhaps have never been to before.  There’s no agenda.  It’s not a “meeting”.  Stay as long as you like but pay for your own food and drinks.
URL:https://lindenwoodpark.org/events/meetup-at-farmhaus-2/
LOCATION:Farmhaus Restaurant\, 3257 Ivanhoe Ave.\, St. Louis\, MO\, 63139\, United States
CATEGORIES:Neighborhood Events
ORGANIZER;CN="Lisa Roggeman":MAILTO:lisa@lindenwoodpark.org
END:VEVENT
END:VCALENDAR