BEGIN:VCALENDAR
VERSION:2.0
PRODID:-//Lindenwood Park - ECPv6.15.20//NONSGML v1.0//EN
CALSCALE:GREGORIAN
METHOD:PUBLISH
X-WR-CALNAME:Lindenwood Park
X-ORIGINAL-URL:https://lindenwoodpark.org
X-WR-CALDESC:Events for Lindenwood Park
REFRESH-INTERVAL;VALUE=DURATION:PT1H
X-Robots-Tag:noindex
X-PUBLISHED-TTL:PT1H
BEGIN:VTIMEZONE
TZID:America/Chicago
BEGIN:DAYLIGHT
TZOFFSETFROM:-0600
TZOFFSETTO:-0500
TZNAME:CDT
DTSTART:20230312T080000
END:DAYLIGHT
BEGIN:STANDARD
TZOFFSETFROM:-0500
TZOFFSETTO:-0600
TZNAME:CST
DTSTART:20231105T070000
END:STANDARD
BEGIN:DAYLIGHT
TZOFFSETFROM:-0600
TZOFFSETTO:-0500
TZNAME:CDT
DTSTART:20240310T080000
END:DAYLIGHT
BEGIN:STANDARD
TZOFFSETFROM:-0500
TZOFFSETTO:-0600
TZNAME:CST
DTSTART:20241103T070000
END:STANDARD
BEGIN:DAYLIGHT
TZOFFSETFROM:-0600
TZOFFSETTO:-0500
TZNAME:CDT
DTSTART:20250309T080000
END:DAYLIGHT
BEGIN:STANDARD
TZOFFSETFROM:-0500
TZOFFSETTO:-0600
TZNAME:CST
DTSTART:20251102T070000
END:STANDARD
BEGIN:DAYLIGHT
TZOFFSETFROM:-0600
TZOFFSETTO:-0500
TZNAME:CDT
DTSTART:20260308T080000
END:DAYLIGHT
BEGIN:STANDARD
TZOFFSETFROM:-0500
TZOFFSETTO:-0600
TZNAME:CST
DTSTART:20261101T070000
END:STANDARD
END:VTIMEZONE
BEGIN:VEVENT
DTSTART;TZID=America/Chicago:20250303T190000
DTEND;TZID=America/Chicago:20250303T203000
DTSTAMP:20260424T215217
CREATED:20241118T232343Z
LAST-MODIFIED:20241118T232343Z
UID:9890-1741028400-1741033800@lindenwoodpark.org
SUMMARY:Quarterly Neighborhood Meeting
DESCRIPTION:Neighborhood meetings are held at Watson Terrace Christian Church\, 4205 Watson Road. \nMeetings are open to association members and Lindenwood residents. \nResidents can join the Association for an annual membership fee of $15 per household\, payable at any meeting or online at Lindenwoodpark.org/join. \nQuarterly meetings: Mingling begins at 7:00pm\, program promptly begins at 7:30 and ends by 9:00. \n 
URL:https://lindenwoodpark.org/events/quarterly-neighborhood-meeting-15/
LOCATION:Watson Terrace Christian Church\, 4205 Watson Road\, Saint Louis\, MO\, 63109\, United States
CATEGORIES:Association Events
ORGANIZER;CN="Adam Rustige":MAILTO:adam@lindenwoodpark.org
END:VEVENT
BEGIN:VEVENT
DTSTART;TZID=America/Chicago:20250226T180000
DTEND;TZID=America/Chicago:20250226T200000
DTSTAMP:20260424T215217
CREATED:20250130T123841Z
LAST-MODIFIED:20250130T123841Z
UID:9997-1740592800-1740600000@lindenwoodpark.org
SUMMARY:Meetup At Biggie's
DESCRIPTION:Are you new to our neighborhood and curious about what a meetup is?  It’s just a happy hour\, a time to chill\, a chance to meet people from our neighborhood\, an opportunity to try out a local restaurant that you perhaps have never been to before.  There’s no agenda.  It’s not a “meeting”.  Stay as long as you like but pay for your own food and drinks.
URL:https://lindenwoodpark.org/events/meetup-at-biggies-3/
LOCATION:Biggie’s\, 3332 Watson\, Saint Louis\, MO\, 63139\, United States
CATEGORIES:Neighborhood Events
ORGANIZER;CN="Lisa Roggeman":MAILTO:lisa@lindenwoodpark.org
END:VEVENT
BEGIN:VEVENT
DTSTART;TZID=America/Chicago:20250215T100000
DTEND;TZID=America/Chicago:20250215T120000
DTSTAMP:20260424T215217
CREATED:20250106T171145Z
LAST-MODIFIED:20250106T171145Z
UID:9938-1739613600-1739620800@lindenwoodpark.org
SUMMARY:LPNA Board Meeting
DESCRIPTION:Board meetings are open to the public. If you would like to attend\, please email Adam Rustige\, adam@lindenwoodpark.org.
URL:https://lindenwoodpark.org/events/lpna-board-meeting-30/
LOCATION:Machacek Library\, 6424 Scanlan Ave\, Saint Louis\, 63139\, United States
CATEGORIES:Association Events
ORGANIZER;CN="Adam Rustige":MAILTO:adam@lindenwoodpark.org
END:VEVENT
BEGIN:VEVENT
DTSTART;TZID=America/Chicago:20250211T180000
DTEND;TZID=America/Chicago:20250211T190000
DTSTAMP:20260424T215217
CREATED:20250106T213122Z
LAST-MODIFIED:20250209T154339Z
UID:9956-1739296800-1739300400@lindenwoodpark.org
SUMMARY:*Cancelled* Block Captain Meeting
DESCRIPTION:The Block Captain program is chaired by Laurie Klein. If you think you might be interested in becoming a Block Captain please complete this form or email blockcaptains@lindenwoodpark.org. Laurie will contact you to provide further information and answer any questions you might have.
URL:https://lindenwoodpark.org/events/block-captain-meeting-9/
LOCATION:Timothy Lutheran Church\, 6704 Fyler Ave.\, Saint Louis\, MO\, 63139\, United States
CATEGORIES:Association Events,Neighborhood Events
ORGANIZER;CN="Laurie Klein":MAILTO:blockcaptains@lindenwoodpark.org
END:VEVENT
BEGIN:VEVENT
DTSTART;TZID=America/Chicago:20250128T180000
DTEND;TZID=America/Chicago:20250128T200000
DTSTAMP:20260424T215217
CREATED:20250120T161850Z
LAST-MODIFIED:20250120T161850Z
UID:9988-1738087200-1738094400@lindenwoodpark.org
SUMMARY:Meetup At Ari's Restaurant
DESCRIPTION:Are you new to our neighborhood and curious about what a meetup is?  It’s just a happy hour\, a time to chill\, a chance to meet people from our neighborhood\, an opportunity to try out a local restaurant that you perhaps have never been to before.  There’s no agenda.  It’s not a “meeting”.  Stay as long as you like but pay for your own food and drinks.
URL:https://lindenwoodpark.org/events/meetup-at-aris-restaurant/
LOCATION:Ari’s Restaurant & Bar\, 3101 Hampton\, Saint Louis\, MO\, 63139\, United States
CATEGORIES:Neighborhood Events
ORGANIZER;CN="Lisa Roggeman":MAILTO:lisa@lindenwoodpark.org
END:VEVENT
BEGIN:VEVENT
DTSTART;TZID=America/Chicago:20250121T190000
DTEND;TZID=America/Chicago:20250121T210000
DTSTAMP:20260424T215217
CREATED:20250106T170036Z
LAST-MODIFIED:20250106T170036Z
UID:9936-1737486000-1737493200@lindenwoodpark.org
SUMMARY:LPNA Board Meeting
DESCRIPTION:Board meetings are open to the public. If you would like to attend\, please email Adam Rustige\, adam@lindenwoodpark.org.
URL:https://lindenwoodpark.org/events/lpna-board-meeting-29/
LOCATION:Epiphany of our Lord Catholic Church\, 3164 Ivanhoe\, Saint Louis\, 63139\, United States
CATEGORIES:Association Events
ORGANIZER;CN="Adam Rustige":MAILTO:adam@lindenwoodpark.org
END:VEVENT
BEGIN:VEVENT
DTSTART;TZID=America/Chicago:20241202T190000
DTEND;TZID=America/Chicago:20241202T203000
DTSTAMP:20260424T215217
CREATED:20231230T175209Z
LAST-MODIFIED:20240121T163220Z
UID:9379-1733166000-1733171400@lindenwoodpark.org
SUMMARY:Quarterly Neighborhood Meeting
DESCRIPTION:Neighborhood meetings are held at Watson Terrace Christian Church\, 4205 Watson Road. \nMeetings are open to association members and Lindenwood residents. \nResidents can join the Association for an annual membership fee of $15 per household\, payable at any meeting or online at Lindenwoodpark.org/join. \nQuarterly meetings: Mingling begins at 7:00pm\, program promptly begins at 7:30 and ends by 9:00. \n 
URL:https://lindenwoodpark.org/events/quarterly-neighborhood-meeting-14/
LOCATION:Watson Terrace Christian Church\, 4205 Watson Road\, Saint Louis\, MO\, 63109\, United States
CATEGORIES:Association Events,Neighborhood Events
ORGANIZER;CN="Adam Rustige":MAILTO:adam@lindenwoodpark.org
END:VEVENT
BEGIN:VEVENT
DTSTART;TZID=America/Chicago:20241126T180000
DTEND;TZID=America/Chicago:20241126T200000
DTSTAMP:20260424T215217
CREATED:20241029T113336Z
LAST-MODIFIED:20241125T131108Z
UID:9871-1732644000-1732651200@lindenwoodpark.org
SUMMARY:Meetup At Trattoria Marcella
DESCRIPTION:Are you new to our neighborhood and curious about what a meetup is?  It’s just a happy hour\, a time to chill\, a chance to meet people from our neighborhood\, an opportunity to try out a local restaurant that you perhaps have never been to before.  There’s no agenda.  It’s not a “meeting”.  Stay as long as you like but pay for your own food and drinks.
URL:https://lindenwoodpark.org/events/meetup-at-trattoria-marcela/
LOCATION:Trattoria Marcella\, 3600 Watson Road\, Saint Louis\, 63139\, United States
CATEGORIES:Neighborhood Events
ORGANIZER;CN="Lisa Roggeman":MAILTO:lisa@lindenwoodpark.org
END:VEVENT
BEGIN:VEVENT
DTSTART;TZID=America/Chicago:20241116T100000
DTEND;TZID=America/Chicago:20241116T120000
DTSTAMP:20260424T215217
CREATED:20240226T160932Z
LAST-MODIFIED:20241029T112719Z
UID:9470-1731751200-1731758400@lindenwoodpark.org
SUMMARY:LPNA Board Meeting
DESCRIPTION:Board meetings are open to the public. If you would like to attend\, please email Adam Rustige\, adam@lindenwoodpark.org.
URL:https://lindenwoodpark.org/events/lpna-board-meeting-16/
LOCATION:Machacek Library\, 6424 Scanlan Ave\, Saint Louis\, 63139\, United States
CATEGORIES:Association Events
ORGANIZER;CN="Adam Rustige":MAILTO:adam@lindenwoodpark.org
END:VEVENT
BEGIN:VEVENT
DTSTART;TZID=America/Chicago:20241102T090000
DTEND;TZID=America/Chicago:20241102T100000
DTSTAMP:20260424T215217
CREATED:20231230T192939Z
LAST-MODIFIED:20231230T192939Z
UID:9394-1730538000-1730541600@lindenwoodpark.org
SUMMARY:Green Team Highway Clean-Up
DESCRIPTION:We are looking for volunteers to help pick up trash from along highway I-44 and up to the fenced area.  We generally clean up from the Jamieson exit back towards the bridge (just under a mile).  Trash bags will be provided.  Bring gloves!  The more helpers we have\, the quicker we get done. \nPlease help us keep our neighborhood clean and tidy!  Children are welcome to help but must be accompanied by an adult and will not be allowed close to the highway\, but there’s usually plenty of trash along the fences.  All helpers must wear reflective vests (which will be provided). \n 
URL:https://lindenwoodpark.org/events/green-team-highway-clean-up-9/
LOCATION:I-44 Exit at Jamieson\, Interstate 44 & Jamieson\, St. Louis\, 63139\, United States
CATEGORIES:Association Events,Neighborhood Events
ORGANIZER;CN="Tim Nowell":MAILTO:tim@lindenwoodpark.org
END:VEVENT
BEGIN:VEVENT
DTSTART;TZID=America/Chicago:20241022T180000
DTEND;TZID=America/Chicago:20241022T200000
DTSTAMP:20260424T215217
CREATED:20241016T190501Z
LAST-MODIFIED:20241016T191551Z
UID:9775-1729620000-1729627200@lindenwoodpark.org
SUMMARY:Meetup At Piccadilly At Manhattan
DESCRIPTION:Are you new to our neighborhood and curious about what a meetup is?  It’s just a happy hour\, a time to chill\, a chance to meet people from our neighborhood\, an opportunity to try out a local restaurant that you perhaps have never been to before.  There’s no agenda.  It’s not a “meeting”.  Stay as long as you like but pay for your own food and drinks.
URL:https://lindenwoodpark.org/events/meetup-at-piccadilly-at-manhattan/
LOCATION:The Piccadilly at Manhattan\, 7201 Piccadilly Avenue\, St. Louis\, MO\, 63143
CATEGORIES:Neighborhood Events
ORGANIZER;CN="Lisa Roggeman":MAILTO:lisa@lindenwoodpark.org
END:VEVENT
BEGIN:VEVENT
DTSTART;TZID=America/Chicago:20241016T190000
DTEND;TZID=America/Chicago:20241016T210000
DTSTAMP:20260424T215217
CREATED:20231230T172127Z
LAST-MODIFIED:20231230T172127Z
UID:9371-1729105200-1729112400@lindenwoodpark.org
SUMMARY:LPNA Board Meeting
DESCRIPTION:Board meetings are open to the public. If you would like to attend\, please email Adam Rustige\, adam@lindenwoodpark.org.
URL:https://lindenwoodpark.org/events/lpna-board-meeting-15/
LOCATION:Epiphany of our Lord Catholic Church\, 3164 Ivanhoe\, Saint Louis\, 63139\, United States
CATEGORIES:Association Events,Neighborhood Events
ORGANIZER;CN="Adam Rustige":MAILTO:adam@lindenwoodpark.org
END:VEVENT
BEGIN:VEVENT
DTSTART;TZID=America/Chicago:20241008T180000
DTEND;TZID=America/Chicago:20241008T190000
DTSTAMP:20260424T215217
CREATED:20240107T192307Z
LAST-MODIFIED:20240107T192307Z
UID:9418-1728410400-1728414000@lindenwoodpark.org
SUMMARY:Block Captain Meeting
DESCRIPTION:The Block Captain program is chaired by Laurie Klein. If you think you might be interested in becoming a Block Captain please complete this form or email blockcaptains@lindenwoodpark.org. Laurie will contact you to provide further information and answer any questions you might have.
URL:https://lindenwoodpark.org/events/block-captain-meeting-8/
LOCATION:Timothy Lutheran Church\, 6704 Fyler Ave.\, Saint Louis\, MO\, 63139\, United States
CATEGORIES:Association Events,Neighborhood Events
ORGANIZER;CN="Laurie Klein":MAILTO:blockcaptains@lindenwoodpark.org
END:VEVENT
BEGIN:VEVENT
DTSTART;TZID=America/Chicago:20241005T110000
DTEND;TZID=America/Chicago:20241005T160000
DTSTAMP:20260424T215217
CREATED:20231230T202912Z
LAST-MODIFIED:20231230T202912Z
UID:9409-1728126000-1728144000@lindenwoodpark.org
SUMMARY:LinFest
DESCRIPTION:
URL:https://lindenwoodpark.org/events/linfest/
LOCATION:Lindenwood Park\, Pernod Avenue & Jamieson Avenue\, Saint Louis\, 63139\, United States
CATEGORIES:Association Events,Neighborhood Events
ORGANIZER;CN="Lisa Roggeman":MAILTO:lisa@lindenwoodpark.org
END:VEVENT
BEGIN:VEVENT
DTSTART;TZID=America/Chicago:20240918T180000
DTEND;TZID=America/Chicago:20240918T200000
DTSTAMP:20260424T215217
CREATED:20240916T115238Z
LAST-MODIFIED:20240916T115238Z
UID:9715-1726682400-1726689600@lindenwoodpark.org
SUMMARY:Meetup At Aya Sofia
DESCRIPTION:Are you new to our neighborhood and curious about what a meetup is?  It’s just a happy hour\, a time to chill\, a chance to meet people from our neighborhood\, an opportunity to try out a local restaurant that you perhaps have never been to before.  There’s no agenda.  It’s not a “meeting”.  Stay as long as you like but pay for your own food and drinks.
URL:https://lindenwoodpark.org/events/meetup-at-aya-sofia-2/
LOCATION:Aya Sofia\, 6671 Chippewa\, Saint Louis\, 63109\, United States
CATEGORIES:Neighborhood Events
ORGANIZER;CN="Lisa Roggeman":MAILTO:lisa@lindenwoodpark.org
END:VEVENT
BEGIN:VEVENT
DTSTART;TZID=America/Chicago:20240909T190000
DTEND;TZID=America/Chicago:20240909T203000
DTSTAMP:20260424T215217
CREATED:20231230T174827Z
LAST-MODIFIED:20240121T163404Z
UID:9377-1725908400-1725913800@lindenwoodpark.org
SUMMARY:Quarterly Neighborhood Meeting
DESCRIPTION:Neighborhood meetings are held at Watson Terrace Christian Church\, 4205 Watson Road. \nMeetings are open to association members and Lindenwood residents. \nResidents can join the Association for an annual membership fee of $15 per household\, payable at any meeting or online at Lindenwoodpark.org/join. \nQuarterly meetings: Mingling begins at 7:00pm\, program promptly begins at 7:30 and ends by 9:00. \n 
URL:https://lindenwoodpark.org/events/quarterly-neighborhood-meeting-13/
LOCATION:Watson Terrace Christian Church\, 4205 Watson Road\, Saint Louis\, MO\, 63109\, United States
CATEGORIES:Association Events,Neighborhood Events
ORGANIZER;CN="Adam Rustige":MAILTO:adam@lindenwoodpark.org
END:VEVENT
BEGIN:VEVENT
DTSTART;TZID=America/Chicago:20240907T090000
DTEND;TZID=America/Chicago:20240907T120000
DTSTAMP:20260424T215217
CREATED:20231230T184109Z
LAST-MODIFIED:20240721T181941Z
UID:9384-1725699600-1725710400@lindenwoodpark.org
SUMMARY:Fall Park Clean-Up
DESCRIPTION:Our biannual park clean-up will get Lindenwood Park spruced up and ready for winter. \nWe value any time you want to volunteer. We meet at 9:00am and generally work until noon\, but will take an hour\, or whatever time you can spare to help. \nPlease bring hand tools such as a rake\, shovel\, or broom\, and gloves. Wheelbarrows are also always helpful. \nTwice a year\, spring and fall\, we get together in the park to tidy up the park. \nThis is a great service project for groups\, if you are looking for an opportunity for your scouts\, school\, club or church.
URL:https://lindenwoodpark.org/events/fall-park-clean-up-5/
LOCATION:Lindenwood Park\, Pernod Avenue & Jamieson Avenue\, Saint Louis\, 63139\, United States
CATEGORIES:Association Events,Neighborhood Events
ORGANIZER;CN="Park Committee":MAILTO:park@lindenwoodpark.org
END:VEVENT
BEGIN:VEVENT
DTSTART;TZID=America/Chicago:20240907T090000
DTEND;TZID=America/Chicago:20240907T100000
DTSTAMP:20260424T215217
CREATED:20231230T191421Z
LAST-MODIFIED:20231230T191421Z
UID:9390-1725699600-1725703200@lindenwoodpark.org
SUMMARY:Green Team Highway Clean-Up
DESCRIPTION:We are looking for volunteers to help pick up trash from along highway I-44 and up to the fenced area.  We generally clean up from the Jamieson exit back towards the bridge (just under a mile).  Trash bags will be provided.  Bring gloves!  The more helpers we have\, the quicker we get done. \nPlease help us keep our neighborhood clean and tidy!  Children are welcome to help but must be accompanied by an adult and will not be allowed close to the highway\, but there’s usually plenty of trash along the fences.  All helpers must wear reflective vests (which will be provided). \n 
URL:https://lindenwoodpark.org/events/green-team-highway-clean-up-7/
LOCATION:I-44 Exit at Jamieson\, Interstate 44 & Jamieson\, St. Louis\, 63139\, United States
CATEGORIES:Association Events,Neighborhood Events
ORGANIZER;CN="Tim Nowell":MAILTO:tim@lindenwoodpark.org
END:VEVENT
BEGIN:VEVENT
DTSTART;TZID=America/Chicago:20240901T180000
DTEND;TZID=America/Chicago:20240901T200000
DTSTAMP:20260424T215217
CREATED:20231230T201329Z
LAST-MODIFIED:20231230T201329Z
UID:9404-1725213600-1725220800@lindenwoodpark.org
SUMMARY:Lindenwood Live!
DESCRIPTION:Gather up your neighbors and friends and come enjoy a great local band. \nAnd don’t forget the food trucks! \nThe food trucks begin serving at 5pm
URL:https://lindenwoodpark.org/events/lindenwood-live-8/
LOCATION:Lindenwood Park\, Pernod Avenue & Jamieson Avenue\, Saint Louis\, 63139\, United States
CATEGORIES:Association Events,Neighborhood Events
ORGANIZER;CN="Greg Roggeman":MAILTO:greg@lindenwoodpark.org
END:VEVENT
BEGIN:VEVENT
DTSTART;TZID=America/Chicago:20240827T180000
DTEND;TZID=America/Chicago:20240827T200000
DTSTAMP:20260424T215217
CREATED:20240805T134406Z
LAST-MODIFIED:20240805T134406Z
UID:9656-1724781600-1724788800@lindenwoodpark.org
SUMMARY:Meetup At Babe's Tavern
DESCRIPTION:Are you new to our neighborhood and curious about what a meetup is?  It’s just a happy hour\, a time to chill\, a chance to meet people from our neighborhood\, an opportunity to try out a local restaurant that you perhaps have never been to before.  There’s no agenda.  It’s not a “meeting”.  Stay as long as you like but pay for your own food and drinks.
URL:https://lindenwoodpark.org/events/meetup-at-babes-tavern-2/
LOCATION:Babe’s Tavern\, 3215 Ivanhoe Ave.\, St. Louis\, 63139\, United States
CATEGORIES:Neighborhood Events
ORGANIZER;CN="Lisa Roggeman":MAILTO:lisa@lindenwoodpark.org
END:VEVENT
BEGIN:VEVENT
DTSTART;TZID=America/Chicago:20240817T100000
DTEND;TZID=America/Chicago:20240817T120000
DTSTAMP:20260424T215217
CREATED:20231230T171309Z
LAST-MODIFIED:20231230T171309Z
UID:9369-1723888800-1723896000@lindenwoodpark.org
SUMMARY:LPNA Board Meeting
DESCRIPTION:Board meetings are open to the public. If you would like to attend\, please email Adam Rustige\, adam@lindenwoodpark.org.
URL:https://lindenwoodpark.org/events/lpna-board-meeting-14/
LOCATION:Machacek Library\, 6424 Scanlan Ave\, Saint Louis\, 63139\, United States
CATEGORIES:Association Events,Neighborhood Events
ORGANIZER;CN="Adam Rustige":MAILTO:adam@lindenwoodpark.org
END:VEVENT
BEGIN:VEVENT
DTSTART;TZID=America/Chicago:20240804T180000
DTEND;TZID=America/Chicago:20240804T200000
DTSTAMP:20260424T215217
CREATED:20231230T201013Z
LAST-MODIFIED:20231230T201013Z
UID:9402-1722794400-1722801600@lindenwoodpark.org
SUMMARY:Lindenwood Live!
DESCRIPTION:Gather up your neighbors and friends and come enjoy a great local band. \nAnd don’t forget the food trucks! \nThe food trucks begin serving at 5pm
URL:https://lindenwoodpark.org/events/lindenwood-live-7/
LOCATION:Lindenwood Park\, Pernod Avenue & Jamieson Avenue\, Saint Louis\, 63139\, United States
CATEGORIES:Association Events,Neighborhood Events
ORGANIZER;CN="Greg Roggeman":MAILTO:greg@lindenwoodpark.org
END:VEVENT
BEGIN:VEVENT
DTSTART;TZID=America/Chicago:20240727T183000
DTEND;TZID=America/Chicago:20240727T220000
DTSTAMP:20260424T215217
CREATED:20231230T202557Z
LAST-MODIFIED:20231230T202557Z
UID:9407-1722105000-1722117600@lindenwoodpark.org
SUMMARY:LPNA Trivia Night
DESCRIPTION:
URL:https://lindenwoodpark.org/events/lpna-trivia-night-3/
LOCATION:Epiphany of our Lord Catholic Church\, 3164 Ivanhoe\, Saint Louis\, 63139\, United States
CATEGORIES:Association Events,Neighborhood Events
ORGANIZER;CN="Pat Acquisto":MAILTO:pat@lindenwoodpark.org
END:VEVENT
BEGIN:VEVENT
DTSTART;TZID=America/Chicago:20240723T180000
DTEND;TZID=America/Chicago:20240723T200000
DTSTAMP:20260424T215217
CREATED:20240701T121139Z
LAST-MODIFIED:20240701T121139Z
UID:9627-1721757600-1721764800@lindenwoodpark.org
SUMMARY:Meetup At Chilanguita Mexican Kitchen
DESCRIPTION:Are you new to our neighborhood and curious about what a meetup is?  It’s just a happy hour\, a time to chill\, a chance to meet people from our neighborhood\, an opportunity to try out a local restaurant that you perhaps have never been to before.  There’s no agenda.  It’s not a “meeting”.  Stay as long as you like but pay for your own food and drinks.
URL:https://lindenwoodpark.org/events/meetup-at-chilanguita-mexican-kitchen-2/
LOCATION:Chilanguita Mexican Kitchen\, 6997 Chippewa St.\, St. Louis\, MO\, 63109\, United States
CATEGORIES:Neighborhood Events
ORGANIZER;CN="Lisa Roggeman":MAILTO:lisa@lindenwoodpark.org
END:VEVENT
BEGIN:VEVENT
DTSTART;TZID=America/Chicago:20240717T190000
DTEND;TZID=America/Chicago:20240717T210000
DTSTAMP:20260424T215217
CREATED:20231230T170309Z
LAST-MODIFIED:20231230T170309Z
UID:9367-1721242800-1721250000@lindenwoodpark.org
SUMMARY:LPNA Board Meeting
DESCRIPTION:Board meetings are open to the public. If you would like to attend\, please email Adam Rustige\, adam@lindenwoodpark.org.
URL:https://lindenwoodpark.org/events/lpna-board-meeting-13/
LOCATION:Epiphany of our Lord Catholic Church\, 3164 Ivanhoe\, Saint Louis\, 63139\, United States
CATEGORIES:Association Events,Neighborhood Events
ORGANIZER;CN="Adam Rustige":MAILTO:adam@lindenwoodpark.org
END:VEVENT
BEGIN:VEVENT
DTSTART;TZID=America/Chicago:20240709T180000
DTEND;TZID=America/Chicago:20240709T190000
DTSTAMP:20260424T215217
CREATED:20240107T191355Z
LAST-MODIFIED:20240107T191355Z
UID:9416-1720548000-1720551600@lindenwoodpark.org
SUMMARY:Block Captain Meeting
DESCRIPTION:The Block Captain program is chaired by Laurie Klein. If you think you might be interested in becoming a Block Captain please complete this form or email blockcaptains@lindenwoodpark.org. Laurie will contact you to provide further information and answer any questions you might have.
URL:https://lindenwoodpark.org/events/block-captain-meeting-7/
LOCATION:Timothy Lutheran Church\, 6704 Fyler Ave.\, Saint Louis\, MO\, 63139\, United States
CATEGORIES:Association Events,Neighborhood Events
ORGANIZER;CN="Laurie Klein":MAILTO:blockcaptains@lindenwoodpark.org
END:VEVENT
BEGIN:VEVENT
DTSTART;TZID=America/Chicago:20240625T180000
DTEND;TZID=America/Chicago:20240625T200000
DTSTAMP:20260424T215217
CREATED:20240523T050137Z
LAST-MODIFIED:20240513T172722Z
UID:9555-1719338400-1719345600@lindenwoodpark.org
SUMMARY:Meetup At Pietro's
DESCRIPTION:Are you new to our neighborhood and curious about what a meetup is?  It’s just a happy hour\, a time to chill\, a chance to meet people from our neighborhood\, an opportunity to try out a local restaurant that you perhaps have never been to before.  There’s no agenda.  It’s not a “meeting”.  Stay as long as you like but pay for your own food and drinks.
URL:https://lindenwoodpark.org/events/meetup-at-pietros-2/
LOCATION:Pietro’s\, 3801 Watson Road\, Saint Louis\, 63139\, United States
CATEGORIES:Neighborhood Events
ORGANIZER;CN="Lisa Roggeman":MAILTO:lisa@lindenwoodpark.org
END:VEVENT
BEGIN:VEVENT
DTSTART;TZID=America/Chicago:20240623T180000
DTEND;TZID=America/Chicago:20240623T200000
DTSTAMP:20260424T215217
CREATED:20231230T200504Z
LAST-MODIFIED:20231230T200504Z
UID:9400-1719165600-1719172800@lindenwoodpark.org
SUMMARY:Lindenwood Live!
DESCRIPTION:Gather up your neighbors and friends and come enjoy a great local band. \nAnd don’t forget the food trucks! \nThe food trucks begin serving at 5pm
URL:https://lindenwoodpark.org/events/lindenwood-live-6/
LOCATION:Lindenwood Park\, Pernod Avenue & Jamieson Avenue\, Saint Louis\, 63139\, United States
CATEGORIES:Association Events,Neighborhood Events
ORGANIZER;CN="Greg Roggeman":MAILTO:greg@lindenwoodpark.org
END:VEVENT
BEGIN:VEVENT
DTSTART;TZID=America/Chicago:20240603T190000
DTEND;TZID=America/Chicago:20240603T203000
DTSTAMP:20260424T215217
CREATED:20231230T174005Z
LAST-MODIFIED:20240121T163617Z
UID:9375-1717441200-1717446600@lindenwoodpark.org
SUMMARY:Quarterly Neighborhood Meeting
DESCRIPTION:Neighborhood meetings are held at Watson Terrace Christian Church\, 4205 Watson Road. \nMeetings are open to association members and Lindenwood residents. \nResidents can join the Association for an annual membership fee of $15 per household\, payable at any meeting or online at Lindenwoodpark.org/join. \nQuarterly meetings: Mingling begins at 7:00pm\, program promptly begins at 7:30 and ends by 9:00. \n 
URL:https://lindenwoodpark.org/events/quarterly-neighborhood-meeting-12/
LOCATION:Watson Terrace Christian Church\, 4205 Watson Road\, Saint Louis\, MO\, 63109\, United States
CATEGORIES:Association Events,Neighborhood Events
ORGANIZER;CN="Adam Rustige":MAILTO:adam@lindenwoodpark.org
END:VEVENT
BEGIN:VEVENT
DTSTART;TZID=America/Chicago:20240601T090000
DTEND;TZID=America/Chicago:20240601T100000
DTSTAMP:20260424T215217
CREATED:20231230T190832Z
LAST-MODIFIED:20231230T190832Z
UID:9388-1717232400-1717236000@lindenwoodpark.org
SUMMARY:Green Team Highway Clean-Up
DESCRIPTION:We are looking for volunteers to help pick up trash from along highway I-44 and up to the fenced area.  We generally clean up from the Jamieson exit back towards the bridge (just under a mile).  Trash bags will be provided.  Bring gloves!  The more helpers we have\, the quicker we get done. \nPlease help us keep our neighborhood clean and tidy!  Children are welcome to help but must be accompanied by an adult and will not be allowed close to the highway\, but there’s usually plenty of trash along the fences.  All helpers must wear reflective vests (which will be provided). \n 
URL:https://lindenwoodpark.org/events/green-team-highway-clean-up-6/
LOCATION:I-44 Exit at Jamieson\, Interstate 44 & Jamieson\, St. Louis\, 63139\, United States
CATEGORIES:Association Events,Neighborhood Events
ORGANIZER;CN="Tim Nowell":MAILTO:tim@lindenwoodpark.org
END:VEVENT
END:VCALENDAR