BEGIN:VCALENDAR
VERSION:2.0
PRODID:-//Lindenwood Park - ECPv6.15.20//NONSGML v1.0//EN
CALSCALE:GREGORIAN
METHOD:PUBLISH
X-WR-CALNAME:Lindenwood Park
X-ORIGINAL-URL:https://lindenwoodpark.org
X-WR-CALDESC:Events for Lindenwood Park
REFRESH-INTERVAL;VALUE=DURATION:PT1H
X-Robots-Tag:noindex
X-PUBLISHED-TTL:PT1H
BEGIN:VTIMEZONE
TZID:America/Chicago
BEGIN:DAYLIGHT
TZOFFSETFROM:-0600
TZOFFSETTO:-0500
TZNAME:CDT
DTSTART:20240310T080000
END:DAYLIGHT
BEGIN:STANDARD
TZOFFSETFROM:-0500
TZOFFSETTO:-0600
TZNAME:CST
DTSTART:20241103T070000
END:STANDARD
BEGIN:DAYLIGHT
TZOFFSETFROM:-0600
TZOFFSETTO:-0500
TZNAME:CDT
DTSTART:20250309T080000
END:DAYLIGHT
BEGIN:STANDARD
TZOFFSETFROM:-0500
TZOFFSETTO:-0600
TZNAME:CST
DTSTART:20251102T070000
END:STANDARD
BEGIN:DAYLIGHT
TZOFFSETFROM:-0600
TZOFFSETTO:-0500
TZNAME:CDT
DTSTART:20260308T080000
END:DAYLIGHT
BEGIN:STANDARD
TZOFFSETFROM:-0500
TZOFFSETTO:-0600
TZNAME:CST
DTSTART:20261101T070000
END:STANDARD
BEGIN:DAYLIGHT
TZOFFSETFROM:-0600
TZOFFSETTO:-0500
TZNAME:CDT
DTSTART:20270314T080000
END:DAYLIGHT
BEGIN:STANDARD
TZOFFSETFROM:-0500
TZOFFSETTO:-0600
TZNAME:CST
DTSTART:20271107T070000
END:STANDARD
END:VTIMEZONE
BEGIN:VEVENT
DTSTART;TZID=America/Chicago:20260512T180000
DTEND;TZID=America/Chicago:20260512T190000
DTSTAMP:20260424T214131
CREATED:20260105T161018Z
LAST-MODIFIED:20260105T161018Z
UID:10394-1778608800-1778612400@lindenwoodpark.org
SUMMARY:Block Captain Meeting
DESCRIPTION:The Block Captain program is chaired by Laurie Klein. If you think you might be interested in becoming a Block Captain please complete this form or email blockcaptains@lindenwoodpark.org. Laurie will contact you to provide further information and answer any questions you might have.
URL:https://lindenwoodpark.org/events/block-captain-meeting-20/
LOCATION:Timothy Lutheran Church\, 6704 Fyler Ave.\, Saint Louis\, MO\, 63139\, United States
CATEGORIES:Association Events
ORGANIZER;CN="Laurie Klein":MAILTO:blockcaptains@lindenwoodpark.org
END:VEVENT
BEGIN:VEVENT
DTSTART;TZID=America/Chicago:20260502T090000
DTEND;TZID=America/Chicago:20260502T120000
DTSTAMP:20260424T214131
CREATED:20260406T152932Z
LAST-MODIFIED:20260406T152932Z
UID:10499-1777712400-1777723200@lindenwoodpark.org
SUMMARY:Spring Park Clean-Up
DESCRIPTION:Our biannual fall park clean-up will get Lindenwood Park spruced up and ready for summer events. \nWe value any time you want to volunteer. We meet at 9:00am and generally work until noon\, but will take an hour\, or whatever time you can spare to help. \nPlease bring hand tools such as a rake\, shovel\, or broom\, and gloves. Wheelbarrows are also always helpful. \nTwice a year\, spring and fall\, we get together in the park to tidy up the park. \nThis is a great service project for groups\, if you are looking for an opportunity for your scouts\, school\, club or church.
URL:https://lindenwoodpark.org/events/spring-park-clean-up-6/
LOCATION:Lindenwood Park\, Pernod Avenue & Jamieson Avenue\, Saint Louis\, 63139\, United States
CATEGORIES:Association Events,Neighborhood Events
ORGANIZER;CN="Park Committee":MAILTO:park@lindenwoodpark.org
END:VEVENT
BEGIN:VEVENT
DTSTART;TZID=America/Chicago:20260428T180000
DTEND;TZID=America/Chicago:20260428T200000
DTSTAMP:20260424T214131
CREATED:20260119T185941Z
LAST-MODIFIED:20260119T185941Z
UID:10438-1777399200-1777406400@lindenwoodpark.org
SUMMARY:Meetup At Chilanguita
DESCRIPTION:Are you new to our neighborhood and curious about what a meetup is?  It’s just a happy hour\, a time to chill\, a chance to meet people from our neighborhood\, an opportunity to try out a local restaurant that you perhaps have never been to before.  There’s no agenda.  It’s not a “meeting”.  Stay as long as you like but pay for your own food and drinks.
URL:https://lindenwoodpark.org/events/meetup-at-chilanguita/
LOCATION:Chilanguita Mexican Kitchen\, 6997 Chippewa St.\, St. Louis\, MO\, 63109\, United States
CATEGORIES:Neighborhood Events
ORGANIZER;CN="Lisa Roggeman":MAILTO:lisa@lindenwoodpark.org
END:VEVENT
BEGIN:VEVENT
DTSTART;TZID=America/Chicago:20260425T090000
DTEND;TZID=America/Chicago:20260425T100000
DTSTAMP:20260424T214131
CREATED:20260112T202144Z
LAST-MODIFIED:20260112T202144Z
UID:10403-1777107600-1777111200@lindenwoodpark.org
SUMMARY:Green Team Highway Clean-Up
DESCRIPTION:We are looking for volunteers to help pick up trash from along highway I-44 and up to the fenced area.  We generally clean up from the Jamieson exit back towards the bridge (just under a mile).  Trash bags will be provided.  Bring gloves!  The more helpers we have\, the quicker we get done. \nPlease help us keep our neighborhood clean and tidy!  Children are welcome to help but must be accompanied by an adult and will not be allowed close to the highway\, but there’s usually plenty of trash along the fences.  All helpers must wear reflective vests (which will be provided). \n 
URL:https://lindenwoodpark.org/events/green-team-highway-clean-up-17/
LOCATION:I-44 Exit at Jamieson\, Interstate 44 & Jamieson\, St. Louis\, 63139\, United States
CATEGORIES:Association Events
ORGANIZER;CN="Tim Nowell":MAILTO:tim@lindenwoodpark.org
END:VEVENT
BEGIN:VEVENT
DTSTART;TZID=America/Chicago:20260421T190000
DTEND;TZID=America/Chicago:20260421T210000
DTSTAMP:20260424T214131
CREATED:20260105T140638Z
LAST-MODIFIED:20260105T140638Z
UID:10381-1776798000-1776805200@lindenwoodpark.org
SUMMARY:LPNA Board Meeting
DESCRIPTION:Board meetings are open to the public. If you would like to attend\, please email Adam Rustige\, adam@lindenwoodpark.org.
URL:https://lindenwoodpark.org/events/lpna-board-meeting-39/
LOCATION:Epiphany of our Lord Catholic Church\, 3164 Ivanhoe\, Saint Louis\, 63139\, United States
CATEGORIES:Association Events
ORGANIZER;CN="Adam Rustige":MAILTO:adam@lindenwoodpark.org
END:VEVENT
BEGIN:VEVENT
DTSTART;TZID=America/Chicago:20260325T180000
DTEND;TZID=America/Chicago:20260325T200000
DTSTAMP:20260424T214131
CREATED:20260119T185420Z
LAST-MODIFIED:20260119T185420Z
UID:10436-1774461600-1774468800@lindenwoodpark.org
SUMMARY:Meetup At Afghan Kabob House
DESCRIPTION:Are you new to our neighborhood and curious about what a meetup is?  It’s just a happy hour\, a time to chill\, a chance to meet people from our neighborhood\, an opportunity to try out a local restaurant that you perhaps have never been to before.  There’s no agenda.  It’s not a “meeting”.  Stay as long as you like but pay for your own food and drinks.
URL:https://lindenwoodpark.org/events/meetup-at-afghan-kabob-house-3/
LOCATION:Afghan Kabob House\, 3500 Watson Road\, St. Louis\, MO\, 63139\, United States
CATEGORIES:Neighborhood Events
ORGANIZER;CN="Lisa Roggeman":MAILTO:lisa@lindenwoodpark.org
END:VEVENT
BEGIN:VEVENT
DTSTART;TZID=America/Chicago:20260302T190000
DTEND;TZID=America/Chicago:20260302T203000
DTSTAMP:20260424T214131
CREATED:20251110T163839Z
LAST-MODIFIED:20251110T163839Z
UID:10323-1772478000-1772483400@lindenwoodpark.org
SUMMARY:Quarterly Neighborhood Meeting
DESCRIPTION:Neighborhood meetings are held at Watson Terrace Christian Church\, 4205 Watson Road. \nMeetings are open to association members and Lindenwood residents. \nResidents can join the Association for an annual membership fee of $15 per household\, payable at any meeting or online at Lindenwoodpark.org/join.\nMeetings are held quarterly on the first Monday. Mingling begins at 6:30 pm\, the program begins promptly at 7:00 pm and ends by 8:30 pm. Note: The September meeting is held on the 2nd Monday of the month due to the Labor Day Holiday celebrated on the first Monday of September.\nYou can click here to subscribe to the LPNA WebCal on the device you are currently using.
URL:https://lindenwoodpark.org/events/quarterly-neighborhood-meeting-19/
LOCATION:Watson Terrace Christian Church\, 4205 Watson Road\, Saint Louis\, MO\, 63109\, United States
CATEGORIES:Association Events
ORGANIZER;CN="Adam Rustige":MAILTO:adam@lindenwoodpark.org
END:VEVENT
BEGIN:VEVENT
DTSTART;TZID=America/Chicago:20260226T190000
DTEND;TZID=America/Chicago:20260226T200000
DTSTAMP:20260424T214131
CREATED:20260216T161725Z
LAST-MODIFIED:20260216T161725Z
UID:10463-1772132400-1772136000@lindenwoodpark.org
SUMMARY:QuikTrip Meeting
DESCRIPTION:The Lindenwood Park Neighborhood Association has scheduled a neighborhood meeting for Thursday\, February 26th at 7pm (doors open at 6.30pm) to meet with representatives from QuikTrip. The meeting will center on QuikTrip presenting an updated proposal to build a new store at the corner of Arsenal and Jamieson\, plus answer any questions. \nThe meeting will take place at Watson Terrace Christian Church\, 4205 Watson Road\, 63109. Enter off Winnebago. Members of the LPNA board and Alderman Bret Narayan will also be in attendance. \n 
URL:https://lindenwoodpark.org/events/quiktrip-meeting/
LOCATION:Watson Terrace Christian Church\, 4205 Watson Road\, Saint Louis\, MO\, 63109\, United States
CATEGORIES:Neighborhood Events
ORGANIZER;CN="Adam Rustige":MAILTO:adam@lindenwoodpark.org
END:VEVENT
BEGIN:VEVENT
DTSTART;TZID=America/Chicago:20260224T180000
DTEND;TZID=America/Chicago:20260224T200000
DTSTAMP:20260424T214131
CREATED:20260119T170856Z
LAST-MODIFIED:20260119T170856Z
UID:10433-1771956000-1771963200@lindenwoodpark.org
SUMMARY:Meetup At Ari's Restaurant
DESCRIPTION:Are you new to our neighborhood and curious about what a meetup is?  It’s just a happy hour\, a time to chill\, a chance to meet people from our neighborhood\, an opportunity to try out a local restaurant that you perhaps have never been to before.  There’s no agenda.  It’s not a “meeting”.  Stay as long as you like but pay for your own food and drinks.
URL:https://lindenwoodpark.org/events/meetup-at-aris-restaurant-2/
LOCATION:Ari’s Restaurant & Bar\, 3101 Hampton\, Saint Louis\, MO\, 63139\, United States
CATEGORIES:Neighborhood Events
ORGANIZER;CN="Lisa Roggeman":MAILTO:lisa@lindenwoodpark.org
END:VEVENT
BEGIN:VEVENT
DTSTART;TZID=America/Chicago:20260221T100000
DTEND;TZID=America/Chicago:20260221T120000
DTSTAMP:20260424T214131
CREATED:20260105T135259Z
LAST-MODIFIED:20260105T135259Z
UID:10379-1771668000-1771675200@lindenwoodpark.org
SUMMARY:LPNA Board Meeting
DESCRIPTION:Board meetings are open to the public. If you would like to attend\, please email Adam Rustige\, adam@lindenwoodpark.org.
URL:https://lindenwoodpark.org/events/lpna-board-meeting-38/
LOCATION:Machacek Library\, 6424 Scanlan Ave\, Saint Louis\, 63139\, United States
CATEGORIES:Association Events
ORGANIZER;CN="Adam Rustige":MAILTO:adam@lindenwoodpark.org
END:VEVENT
BEGIN:VEVENT
DTSTART;TZID=America/Chicago:20260210T180000
DTEND;TZID=America/Chicago:20260210T190000
DTSTAMP:20260424T214131
CREATED:20260105T160202Z
LAST-MODIFIED:20260105T160202Z
UID:10392-1770746400-1770750000@lindenwoodpark.org
SUMMARY:Block Captain Meeting
DESCRIPTION:The Block Captain program is chaired by Laurie Klein. If you think you might be interested in becoming a Block Captain please complete this form or email blockcaptains@lindenwoodpark.org. Laurie will contact you to provide further information and answer any questions you might have.
URL:https://lindenwoodpark.org/events/block-captain-meeting-19/
LOCATION:Timothy Lutheran Church\, 6704 Fyler Ave.\, Saint Louis\, MO\, 63139\, United States
CATEGORIES:Association Events
ORGANIZER;CN="Laurie Klein":MAILTO:blockcaptains@lindenwoodpark.org
END:VEVENT
BEGIN:VEVENT
DTSTART;TZID=America/Chicago:20260127T180000
DTEND;TZID=America/Chicago:20260127T200000
DTSTAMP:20260424T214131
CREATED:20260119T145451Z
LAST-MODIFIED:20260119T145451Z
UID:10421-1769536800-1769544000@lindenwoodpark.org
SUMMARY:Meetup At My Place
DESCRIPTION:Are you new to our neighborhood and curious about what a meetup is?  It’s just a happy hour\, a time to chill\, a chance to meet people from our neighborhood\, an opportunity to try out a local restaurant that you perhaps have never been to before.  There’s no agenda.  It’s not a “meeting”.  Stay as long as you like but pay for your own food and drinks.
URL:https://lindenwoodpark.org/events/meetup-at-my-place/
LOCATION:My Place\, 7401 Watson Road\, St. Louis\, MO\, 63119\, United States
CATEGORIES:Neighborhood Events
ORGANIZER;CN="Lisa Roggeman":MAILTO:lisa@lindenwoodpark.org
END:VEVENT
BEGIN:VEVENT
DTSTART;TZID=America/Chicago:20260120T190000
DTEND;TZID=America/Chicago:20260120T210000
DTSTAMP:20260424T214131
CREATED:20260105T134022Z
LAST-MODIFIED:20260105T134022Z
UID:10377-1768935600-1768942800@lindenwoodpark.org
SUMMARY:LPNA Board Meeting
DESCRIPTION:Board meetings are open to the public. If you would like to attend\, please email Adam Rustige\, adam@lindenwoodpark.org.
URL:https://lindenwoodpark.org/events/lpna-board-meeting-37/
LOCATION:Epiphany of our Lord Catholic Church\, 3164 Ivanhoe\, Saint Louis\, 63139\, United States
CATEGORIES:Association Events
END:VEVENT
BEGIN:VEVENT
DTSTART;TZID=America/Chicago:20251208T190000
DTEND;TZID=America/Chicago:20251208T203000
DTSTAMP:20260424T214131
CREATED:20241118T234122Z
LAST-MODIFIED:20251201T185419Z
UID:9896-1765220400-1765225800@lindenwoodpark.org
SUMMARY:Quarterly Neighborhood Meeting
DESCRIPTION:Neighborhood meetings are held at Watson Terrace Christian Church\, 4205 Watson Road. \nMeetings are open to association members and Lindenwood residents. \nResidents can join the Association for an annual membership fee of $15 per household\, payable at any meeting or online at Lindenwoodpark.org/join.\nMeetings are held quarterly on the first Monday. Mingling begins at 6:30 pm\, the program begins promptly at 7:00 pm and ends by 8:30 pm. Note: The September meeting is held on the 2nd Monday of the month due to the Labor Day Holiday celebrated on the first Monday of September.\nYou can click here to subscribe to the LPNA WebCal on the device you are currently using.
URL:https://lindenwoodpark.org/events/quarterly-neighborhood-meeting-18/
LOCATION:Watson Terrace Christian Church\, 4205 Watson Road\, Saint Louis\, MO\, 63109\, United States
CATEGORIES:Association Events
ORGANIZER;CN="Adam Rustige":MAILTO:adam@lindenwoodpark.org
END:VEVENT
BEGIN:VEVENT
DTSTART;TZID=America/Chicago:20251118T180000
DTEND;TZID=America/Chicago:20251118T200000
DTSTAMP:20260424T214131
CREATED:20251020T214744Z
LAST-MODIFIED:20251030T130248Z
UID:10303-1763488800-1763496000@lindenwoodpark.org
SUMMARY:Meetup At Trattoria Marcella
DESCRIPTION:Are you new to our neighborhood and curious about what a meetup is?  It’s just a happy hour\, a time to chill\, a chance to meet people from our neighborhood\, an opportunity to try out a local restaurant that you perhaps have never been to before.  There’s no agenda.  It’s not a “meeting”.  Stay as long as you like but pay for your own food and drinks.
URL:https://lindenwoodpark.org/events/meetup-at-trattoria-marcella-2/
LOCATION:Trattoria Marcella\, 3600 Watson Road\, Saint Louis\, 63139\, United States
CATEGORIES:Neighborhood Events
END:VEVENT
BEGIN:VEVENT
DTSTART;TZID=America/Chicago:20251115T100000
DTEND;TZID=America/Chicago:20251115T120000
DTSTAMP:20260424T214131
CREATED:20250106T181224Z
LAST-MODIFIED:20250106T181224Z
UID:9952-1763200800-1763208000@lindenwoodpark.org
SUMMARY:LPNA Board Meeting
DESCRIPTION:Board meetings are open to the public. If you would like to attend\, please email Adam Rustige\, adam@lindenwoodpark.org.
URL:https://lindenwoodpark.org/events/lpna-board-meeting-36/
LOCATION:Machacek Library\, 6424 Scanlan Ave\, Saint Louis\, 63139\, United States
CATEGORIES:Association Events
ORGANIZER;CN="Adam Rustige":MAILTO:adam@lindenwoodpark.org
END:VEVENT
BEGIN:VEVENT
DTSTART;TZID=America/Chicago:20251101T090000
DTEND;TZID=America/Chicago:20251101T100000
DTSTAMP:20260424T214131
CREATED:20250106T230711Z
LAST-MODIFIED:20250106T230711Z
UID:9974-1761987600-1761991200@lindenwoodpark.org
SUMMARY:Green Team Highway Clean-Up
DESCRIPTION:We are looking for volunteers to help pick up trash from along highway I-44 and up to the fenced area.  We generally clean up from the Jamieson exit back towards the bridge (just under a mile).  Trash bags will be provided.  Bring gloves!  The more helpers we have\, the quicker we get done. \nPlease help us keep our neighborhood clean and tidy!  Children are welcome to help but must be accompanied by an adult and will not be allowed close to the highway\, but there’s usually plenty of trash along the fences.  All helpers must wear reflective vests (which will be provided). \n 
URL:https://lindenwoodpark.org/events/green-team-highway-clean-up-16/
LOCATION:I-44 Exit at Jamieson\, Interstate 44 & Jamieson\, St. Louis\, 63139\, United States
CATEGORIES:Neighborhood Events
ORGANIZER;CN="Tim Nowell":MAILTO:tim@lindenwoodpark.org
END:VEVENT
BEGIN:VEVENT
DTSTART;TZID=America/Chicago:20251029T180000
DTEND;TZID=America/Chicago:20251029T200000
DTSTAMP:20260424T214131
CREATED:20250902T171204Z
LAST-MODIFIED:20250902T171204Z
UID:10215-1761760800-1761768000@lindenwoodpark.org
SUMMARY:Meetup At Farmhaus
DESCRIPTION:Are you new to our neighborhood and curious about what a meetup is?  It’s just a happy hour\, a time to chill\, a chance to meet people from our neighborhood\, an opportunity to try out a local restaurant that you perhaps have never been to before.  There’s no agenda.  It’s not a “meeting”.  Stay as long as you like but pay for your own food and drinks.
URL:https://lindenwoodpark.org/events/meetup-at-farmhaus/
LOCATION:Farmhaus Restaurant\, 3257 Ivanhoe Ave.\, St. Louis\, MO\, 63139\, United States
CATEGORIES:Neighborhood Events
ORGANIZER;CN="Lisa Roggeman":MAILTO:lisa@lindenwoodpark.org
END:VEVENT
BEGIN:VEVENT
DTSTART;TZID=America/Chicago:20251021T190000
DTEND;TZID=America/Chicago:20251021T210000
DTSTAMP:20260424T214131
CREATED:20250106T180653Z
LAST-MODIFIED:20250817T164529Z
UID:9948-1761073200-1761080400@lindenwoodpark.org
SUMMARY:LPNA Board Meeting
DESCRIPTION:Board meetings are open to the public. If you would like to attend\, please email Adam Rustige\, adam@lindenwoodpark.org.
URL:https://lindenwoodpark.org/events/lpna-board-meeting-35/
LOCATION:Epiphany of our Lord Catholic Church\, 3164 Ivanhoe\, Saint Louis\, 63139\, United States
CATEGORIES:Association Events
ORGANIZER;CN="Adam Rustige":MAILTO:adam@lindenwoodpark.org
END:VEVENT
BEGIN:VEVENT
DTSTART;TZID=America/Chicago:20251018T090000
DTEND;TZID=America/Chicago:20251018T120000
DTSTAMP:20260424T214131
CREATED:20250106T223323Z
LAST-MODIFIED:20250901T131659Z
UID:9966-1760778000-1760788800@lindenwoodpark.org
SUMMARY:Fall Park Clean-Up
DESCRIPTION:Our annual fall park clean-up will get Lindenwood Park spruced up and ready for summer events. \nWe value any time you want to volunteer. We meet at 9:00am and generally work until noon\, but will take an hour\, or whatever time you can spare to help. \nPlease bring hand tools such as a rake\, shovel\, or broom\, and gloves. Wheelbarrows are also always helpful. \nTwice a year\, spring and fall\, we get together in the park to tidy up the park. \nThis is a great service project for groups\, if you are looking for an opportunity for your scouts\, school\, club or church.
URL:https://lindenwoodpark.org/events/fall-park-clean-up-6/
LOCATION:Lindenwood Park\, Pernod Avenue & Jamieson Avenue\, Saint Louis\, 63139\, United States
CATEGORIES:Association Events,Neighborhood Events
ORGANIZER;CN="Park Committee":MAILTO:park@lindenwoodpark.org
END:VEVENT
BEGIN:VEVENT
DTSTART;TZID=America/Chicago:20251014T180000
DTEND;TZID=America/Chicago:20251014T190000
DTSTAMP:20260424T214131
CREATED:20250106T214627Z
LAST-MODIFIED:20250106T214627Z
UID:9962-1760464800-1760468400@lindenwoodpark.org
SUMMARY:Block Captain Meeting
DESCRIPTION:The Block Captain program is chaired by Laurie Klein. If you think you might be interested in becoming a Block Captain please complete this form or email blockcaptains@lindenwoodpark.org. Laurie will contact you to provide further information and answer any questions you might have.
URL:https://lindenwoodpark.org/events/block-captain-meeting-12/
LOCATION:Timothy Lutheran Church\, 6704 Fyler Ave.\, Saint Louis\, MO\, 63139\, United States
CATEGORIES:Association Events,Neighborhood Events
ORGANIZER;CN="Laurie Klein":MAILTO:blockcaptains@lindenwoodpark.org
END:VEVENT
BEGIN:VEVENT
DTSTART;TZID=America/Chicago:20250924T180000
DTEND;TZID=America/Chicago:20250924T200000
DTSTAMP:20260424T214131
CREATED:20250902T165913Z
LAST-MODIFIED:20250902T165913Z
UID:10213-1758736800-1758744000@lindenwoodpark.org
SUMMARY:Meetup At Aya Sofia
DESCRIPTION:Are you new to our neighborhood and curious about what a meetup is?  It’s just a happy hour\, a time to chill\, a chance to meet people from our neighborhood\, an opportunity to try out a local restaurant that you perhaps have never been to before.  There’s no agenda.  It’s not a “meeting”.  Stay as long as you like but pay for your own food and drinks.
URL:https://lindenwoodpark.org/events/meetup-at-aya-sofia-3/
LOCATION:Aya Sofia\, 6671 Chippewa\, Saint Louis\, 63109\, United States
CATEGORIES:Neighborhood Events
ORGANIZER;CN="Lisa Roggeman":MAILTO:lisa@lindenwoodpark.org
END:VEVENT
BEGIN:VEVENT
DTSTART;TZID=America/Chicago:20250914T110000
DTEND;TZID=America/Chicago:20250914T170000
DTSTAMP:20260424T214131
CREATED:20250720T064041Z
LAST-MODIFIED:20250814T172817Z
UID:10143-1757847600-1757869200@lindenwoodpark.org
SUMMARY:Lindenwood Park House Tour
DESCRIPTION:The Lindenwood Park House Tour is presented by the Lindenwood Park Neighborhood Association and Mobil On the Run! \nJoin us for a fantastic opportunity to explore some of the most beautiful homes in the Lindenwood Park neighborhood. This event will give you a chance to step inside and admire the architecture and design of these stunning homes. \nWhether you’re a local resident looking for inspiration for your own home or just someone who appreciates great craftsmanship\, this tour is perfect for you. Get ready to be amazed by the unique features and decor of each house on the tour. \nThe event will be Sunday\, September 14th from 11:00 AM – 5:00 PM. Admission to the tour is $25 in advance or $35 day of the event. Registration for the Tour will be at Lindenwood Park Place at 3460 Jamieson Ave. \nClick here to purchase tickets online on Eventbrite.
URL:https://lindenwoodpark.org/events/lindenwood-park-house-tour/
LOCATION:Lindenwood Park Place\, 3460 Jamieson Ave\, St. Louis\, MO\, 63139\, United States
END:VEVENT
BEGIN:VEVENT
DTSTART;TZID=America/Chicago:20250908T190000
DTEND;TZID=America/Chicago:20250908T203000
DTSTAMP:20260424T214131
CREATED:20241118T233638Z
LAST-MODIFIED:20241118T233638Z
UID:9894-1757358000-1757363400@lindenwoodpark.org
SUMMARY:Quarterly Neighborhood Meeting
DESCRIPTION:Neighborhood meetings are held at Watson Terrace Christian Church\, 4205 Watson Road. \nMeetings are open to association members and Lindenwood residents. \nResidents can join the Association for an annual membership fee of $15 per household\, payable at any meeting or online at Lindenwoodpark.org/join. \nQuarterly meetings: Mingling begins at 7:00pm\, program promptly begins at 7:30 and ends by 9:00. \n 
URL:https://lindenwoodpark.org/events/quarterly-neighborhood-meeting-17/
LOCATION:Watson Terrace Christian Church\, 4205 Watson Road\, Saint Louis\, MO\, 63109\, United States
CATEGORIES:Association Events
ORGANIZER;CN="Adam Rustige":MAILTO:adam@lindenwoodpark.org
END:VEVENT
BEGIN:VEVENT
DTSTART;TZID=America/Chicago:20250906T090000
DTEND;TZID=America/Chicago:20250906T100000
DTSTAMP:20260424T214131
CREATED:20250106T225951Z
LAST-MODIFIED:20250106T230116Z
UID:9972-1757149200-1757152800@lindenwoodpark.org
SUMMARY:Green Team Highway Clean-Up
DESCRIPTION:We are looking for volunteers to help pick up trash from along highway I-44 and up to the fenced area.  We generally clean up from the Jamieson exit back towards the bridge (just under a mile).  Trash bags will be provided.  Bring gloves!  The more helpers we have\, the quicker we get done. \nPlease help us keep our neighborhood clean and tidy!  Children are welcome to help but must be accompanied by an adult and will not be allowed close to the highway\, but there’s usually plenty of trash along the fences.  All helpers must wear reflective vests (which will be provided). \n 
URL:https://lindenwoodpark.org/events/green-team-highway-clean-up-15/
LOCATION:I-44 Exit at Jamieson\, Interstate 44 & Jamieson\, St. Louis\, 63139\, United States
CATEGORIES:Neighborhood Events
ORGANIZER;CN="Tim Nowell":MAILTO:tim@lindenwoodpark.org
END:VEVENT
BEGIN:VEVENT
DTSTART;TZID=America/Chicago:20250831T180000
DTEND;TZID=America/Chicago:20250831T200000
DTSTAMP:20260424T214131
CREATED:20241229T150842Z
LAST-MODIFIED:20241229T150842Z
UID:9928-1756663200-1756670400@lindenwoodpark.org
SUMMARY:Lindenwood Live!
DESCRIPTION:Gather up your neighbors and friends and come enjoy a great local band. \nAnd don’t forget the food trucks! \nThe food trucks begin serving at 5pm
URL:https://lindenwoodpark.org/events/lindenwood-live-25/
LOCATION:Lindenwood Park\, Pernod Avenue & Jamieson Avenue\, Saint Louis\, 63139\, United States
CATEGORIES:Association Events,Neighborhood Events
ORGANIZER;CN="Tim Nowell":MAILTO:tim@lindenwoodpark.org
END:VEVENT
BEGIN:VEVENT
DTSTART;TZID=America/Chicago:20250826T180000
DTEND;TZID=America/Chicago:20250826T200000
DTSTAMP:20260424T214131
CREATED:20250720T152415Z
LAST-MODIFIED:20250720T152415Z
UID:10147-1756231200-1756238400@lindenwoodpark.org
SUMMARY:Meetup At Babe's Tavern
DESCRIPTION:Are you new to our neighborhood and curious about what a meetup is?  It’s just a happy hour\, a time to chill\, a chance to meet people from our neighborhood\, an opportunity to try out a local restaurant that you perhaps have never been to before.  There’s no agenda.  It’s not a “meeting”.  Stay as long as you like but pay for your own food and drinks.
URL:https://lindenwoodpark.org/events/meetup-at-babes-tavern-3/
LOCATION:Babe’s Tavern\, 3215 Ivanhoe Ave.\, St. Louis\, 63139\, United States
CATEGORIES:Neighborhood Events
ORGANIZER;CN="Lisa Roggeman":MAILTO:lisa@lindenwoodpark.org
END:VEVENT
BEGIN:VEVENT
DTSTART;TZID=America/Chicago:20250816T100000
DTEND;TZID=America/Chicago:20250816T120000
DTSTAMP:20260424T214131
CREATED:20250106T175549Z
LAST-MODIFIED:20250106T175549Z
UID:9946-1755338400-1755345600@lindenwoodpark.org
SUMMARY:LPNA Board Meeting
DESCRIPTION:Board meetings are open to the public. If you would like to attend\, please email Adam Rustige\, adam@lindenwoodpark.org.
URL:https://lindenwoodpark.org/events/lpna-board-meeting-34/
LOCATION:Machacek Library\, 6424 Scanlan Ave\, Saint Louis\, 63139\, United States
CATEGORIES:Association Events
ORGANIZER;CN="Adam Rustige":MAILTO:adam@lindenwoodpark.org
END:VEVENT
BEGIN:VEVENT
DTSTART;TZID=America/Chicago:20250803T180000
DTEND;TZID=America/Chicago:20250803T200000
DTSTAMP:20260424T214131
CREATED:20241229T150020Z
LAST-MODIFIED:20241229T150020Z
UID:9926-1754244000-1754251200@lindenwoodpark.org
SUMMARY:Lindenwood Live!
DESCRIPTION:Gather up your neighbors and friends and come enjoy a great local band. \nAnd don’t forget the food trucks! \nThe food trucks begin serving at 5pm
URL:https://lindenwoodpark.org/events/lindenwood-live-11/
LOCATION:Lindenwood Park\, Pernod Avenue & Jamieson Avenue\, Saint Louis\, 63139\, United States
CATEGORIES:Association Events,Neighborhood Events
ORGANIZER;CN="Tim Nowell":MAILTO:tim@lindenwoodpark.org
END:VEVENT
BEGIN:VEVENT
DTSTART;TZID=America/Chicago:20250726T190000
DTEND;TZID=America/Chicago:20250726T220000
DTSTAMP:20260424T214131
CREATED:20250106T233919Z
LAST-MODIFIED:20250106T233919Z
UID:9979-1753556400-1753567200@lindenwoodpark.org
SUMMARY:LPNA Trivia Night
DESCRIPTION:
URL:https://lindenwoodpark.org/events/lpna-trivia-night-4/
LOCATION:MO
CATEGORIES:Association Events,Neighborhood Events
ORGANIZER;CN="Pat Acquisto":MAILTO:pat@lindenwoodpark.org
END:VEVENT
END:VCALENDAR