BEGIN:VCALENDAR
VERSION:2.0
PRODID:-//Lindenwood Park - ECPv6.15.20//NONSGML v1.0//EN
CALSCALE:GREGORIAN
METHOD:PUBLISH
X-WR-CALNAME:Lindenwood Park
X-ORIGINAL-URL:https://lindenwoodpark.org
X-WR-CALDESC:Events for Lindenwood Park
REFRESH-INTERVAL;VALUE=DURATION:PT1H
X-Robots-Tag:noindex
X-PUBLISHED-TTL:PT1H
BEGIN:VTIMEZONE
TZID:America/Chicago
BEGIN:DAYLIGHT
TZOFFSETFROM:-0600
TZOFFSETTO:-0500
TZNAME:CDT
DTSTART:20240310T080000
END:DAYLIGHT
BEGIN:STANDARD
TZOFFSETFROM:-0500
TZOFFSETTO:-0600
TZNAME:CST
DTSTART:20241103T070000
END:STANDARD
BEGIN:DAYLIGHT
TZOFFSETFROM:-0600
TZOFFSETTO:-0500
TZNAME:CDT
DTSTART:20250309T080000
END:DAYLIGHT
BEGIN:STANDARD
TZOFFSETFROM:-0500
TZOFFSETTO:-0600
TZNAME:CST
DTSTART:20251102T070000
END:STANDARD
BEGIN:DAYLIGHT
TZOFFSETFROM:-0600
TZOFFSETTO:-0500
TZNAME:CDT
DTSTART:20260308T080000
END:DAYLIGHT
BEGIN:STANDARD
TZOFFSETFROM:-0500
TZOFFSETTO:-0600
TZNAME:CST
DTSTART:20261101T070000
END:STANDARD
END:VTIMEZONE
BEGIN:VEVENT
DTSTART;TZID=America/Chicago:20251029T180000
DTEND;TZID=America/Chicago:20251029T200000
DTSTAMP:20260424T162731
CREATED:20250902T171204Z
LAST-MODIFIED:20250902T171204Z
UID:10215-1761760800-1761768000@lindenwoodpark.org
SUMMARY:Meetup At Farmhaus
DESCRIPTION:Are you new to our neighborhood and curious about what a meetup is?  It’s just a happy hour\, a time to chill\, a chance to meet people from our neighborhood\, an opportunity to try out a local restaurant that you perhaps have never been to before.  There’s no agenda.  It’s not a “meeting”.  Stay as long as you like but pay for your own food and drinks.
URL:https://lindenwoodpark.org/events/meetup-at-farmhaus/
LOCATION:Farmhaus Restaurant\, 3257 Ivanhoe Ave.\, St. Louis\, MO\, 63139\, United States
CATEGORIES:Neighborhood Events
ORGANIZER;CN="Lisa Roggeman":MAILTO:lisa@lindenwoodpark.org
END:VEVENT
BEGIN:VEVENT
DTSTART;TZID=America/Chicago:20251021T190000
DTEND;TZID=America/Chicago:20251021T210000
DTSTAMP:20260424T162731
CREATED:20250106T180653Z
LAST-MODIFIED:20250817T164529Z
UID:9948-1761073200-1761080400@lindenwoodpark.org
SUMMARY:LPNA Board Meeting
DESCRIPTION:Board meetings are open to the public. If you would like to attend\, please email Adam Rustige\, adam@lindenwoodpark.org.
URL:https://lindenwoodpark.org/events/lpna-board-meeting-35/
LOCATION:Epiphany of our Lord Catholic Church\, 3164 Ivanhoe\, Saint Louis\, 63139\, United States
CATEGORIES:Association Events
ORGANIZER;CN="Adam Rustige":MAILTO:adam@lindenwoodpark.org
END:VEVENT
BEGIN:VEVENT
DTSTART;TZID=America/Chicago:20251018T090000
DTEND;TZID=America/Chicago:20251018T120000
DTSTAMP:20260424T162731
CREATED:20250106T223323Z
LAST-MODIFIED:20250901T131659Z
UID:9966-1760778000-1760788800@lindenwoodpark.org
SUMMARY:Fall Park Clean-Up
DESCRIPTION:Our annual fall park clean-up will get Lindenwood Park spruced up and ready for summer events. \nWe value any time you want to volunteer. We meet at 9:00am and generally work until noon\, but will take an hour\, or whatever time you can spare to help. \nPlease bring hand tools such as a rake\, shovel\, or broom\, and gloves. Wheelbarrows are also always helpful. \nTwice a year\, spring and fall\, we get together in the park to tidy up the park. \nThis is a great service project for groups\, if you are looking for an opportunity for your scouts\, school\, club or church.
URL:https://lindenwoodpark.org/events/fall-park-clean-up-6/
LOCATION:Lindenwood Park\, Pernod Avenue & Jamieson Avenue\, Saint Louis\, 63139\, United States
CATEGORIES:Association Events,Neighborhood Events
ORGANIZER;CN="Park Committee":MAILTO:park@lindenwoodpark.org
END:VEVENT
BEGIN:VEVENT
DTSTART;TZID=America/Chicago:20251014T180000
DTEND;TZID=America/Chicago:20251014T190000
DTSTAMP:20260424T162731
CREATED:20250106T214627Z
LAST-MODIFIED:20250106T214627Z
UID:9962-1760464800-1760468400@lindenwoodpark.org
SUMMARY:Block Captain Meeting
DESCRIPTION:The Block Captain program is chaired by Laurie Klein. If you think you might be interested in becoming a Block Captain please complete this form or email blockcaptains@lindenwoodpark.org. Laurie will contact you to provide further information and answer any questions you might have.
URL:https://lindenwoodpark.org/events/block-captain-meeting-12/
LOCATION:Timothy Lutheran Church\, 6704 Fyler Ave.\, Saint Louis\, MO\, 63139\, United States
CATEGORIES:Association Events,Neighborhood Events
ORGANIZER;CN="Laurie Klein":MAILTO:blockcaptains@lindenwoodpark.org
END:VEVENT
BEGIN:VEVENT
DTSTART;TZID=America/Chicago:20250924T180000
DTEND;TZID=America/Chicago:20250924T200000
DTSTAMP:20260424T162731
CREATED:20250902T165913Z
LAST-MODIFIED:20250902T165913Z
UID:10213-1758736800-1758744000@lindenwoodpark.org
SUMMARY:Meetup At Aya Sofia
DESCRIPTION:Are you new to our neighborhood and curious about what a meetup is?  It’s just a happy hour\, a time to chill\, a chance to meet people from our neighborhood\, an opportunity to try out a local restaurant that you perhaps have never been to before.  There’s no agenda.  It’s not a “meeting”.  Stay as long as you like but pay for your own food and drinks.
URL:https://lindenwoodpark.org/events/meetup-at-aya-sofia-3/
LOCATION:Aya Sofia\, 6671 Chippewa\, Saint Louis\, 63109\, United States
CATEGORIES:Neighborhood Events
ORGANIZER;CN="Lisa Roggeman":MAILTO:lisa@lindenwoodpark.org
END:VEVENT
BEGIN:VEVENT
DTSTART;TZID=America/Chicago:20250914T110000
DTEND;TZID=America/Chicago:20250914T170000
DTSTAMP:20260424T162731
CREATED:20250720T064041Z
LAST-MODIFIED:20250814T172817Z
UID:10143-1757847600-1757869200@lindenwoodpark.org
SUMMARY:Lindenwood Park House Tour
DESCRIPTION:The Lindenwood Park House Tour is presented by the Lindenwood Park Neighborhood Association and Mobil On the Run! \nJoin us for a fantastic opportunity to explore some of the most beautiful homes in the Lindenwood Park neighborhood. This event will give you a chance to step inside and admire the architecture and design of these stunning homes. \nWhether you’re a local resident looking for inspiration for your own home or just someone who appreciates great craftsmanship\, this tour is perfect for you. Get ready to be amazed by the unique features and decor of each house on the tour. \nThe event will be Sunday\, September 14th from 11:00 AM – 5:00 PM. Admission to the tour is $25 in advance or $35 day of the event. Registration for the Tour will be at Lindenwood Park Place at 3460 Jamieson Ave. \nClick here to purchase tickets online on Eventbrite.
URL:https://lindenwoodpark.org/events/lindenwood-park-house-tour/
LOCATION:Lindenwood Park Place\, 3460 Jamieson Ave\, St. Louis\, MO\, 63139\, United States
END:VEVENT
BEGIN:VEVENT
DTSTART;TZID=America/Chicago:20250908T190000
DTEND;TZID=America/Chicago:20250908T203000
DTSTAMP:20260424T162731
CREATED:20241118T233638Z
LAST-MODIFIED:20241118T233638Z
UID:9894-1757358000-1757363400@lindenwoodpark.org
SUMMARY:Quarterly Neighborhood Meeting
DESCRIPTION:Neighborhood meetings are held at Watson Terrace Christian Church\, 4205 Watson Road. \nMeetings are open to association members and Lindenwood residents. \nResidents can join the Association for an annual membership fee of $15 per household\, payable at any meeting or online at Lindenwoodpark.org/join. \nQuarterly meetings: Mingling begins at 7:00pm\, program promptly begins at 7:30 and ends by 9:00. \n 
URL:https://lindenwoodpark.org/events/quarterly-neighborhood-meeting-17/
LOCATION:Watson Terrace Christian Church\, 4205 Watson Road\, Saint Louis\, MO\, 63109\, United States
CATEGORIES:Association Events
ORGANIZER;CN="Adam Rustige":MAILTO:adam@lindenwoodpark.org
END:VEVENT
BEGIN:VEVENT
DTSTART;TZID=America/Chicago:20250906T090000
DTEND;TZID=America/Chicago:20250906T100000
DTSTAMP:20260424T162731
CREATED:20250106T225951Z
LAST-MODIFIED:20250106T230116Z
UID:9972-1757149200-1757152800@lindenwoodpark.org
SUMMARY:Green Team Highway Clean-Up
DESCRIPTION:We are looking for volunteers to help pick up trash from along highway I-44 and up to the fenced area.  We generally clean up from the Jamieson exit back towards the bridge (just under a mile).  Trash bags will be provided.  Bring gloves!  The more helpers we have\, the quicker we get done. \nPlease help us keep our neighborhood clean and tidy!  Children are welcome to help but must be accompanied by an adult and will not be allowed close to the highway\, but there’s usually plenty of trash along the fences.  All helpers must wear reflective vests (which will be provided). \n 
URL:https://lindenwoodpark.org/events/green-team-highway-clean-up-15/
LOCATION:I-44 Exit at Jamieson\, Interstate 44 & Jamieson\, St. Louis\, 63139\, United States
CATEGORIES:Neighborhood Events
ORGANIZER;CN="Tim Nowell":MAILTO:tim@lindenwoodpark.org
END:VEVENT
BEGIN:VEVENT
DTSTART;TZID=America/Chicago:20250831T180000
DTEND;TZID=America/Chicago:20250831T200000
DTSTAMP:20260424T162731
CREATED:20241229T150842Z
LAST-MODIFIED:20241229T150842Z
UID:9928-1756663200-1756670400@lindenwoodpark.org
SUMMARY:Lindenwood Live!
DESCRIPTION:Gather up your neighbors and friends and come enjoy a great local band. \nAnd don’t forget the food trucks! \nThe food trucks begin serving at 5pm
URL:https://lindenwoodpark.org/events/lindenwood-live-25/
LOCATION:Lindenwood Park\, Pernod Avenue & Jamieson Avenue\, Saint Louis\, 63139\, United States
CATEGORIES:Association Events,Neighborhood Events
ORGANIZER;CN="Tim Nowell":MAILTO:tim@lindenwoodpark.org
END:VEVENT
BEGIN:VEVENT
DTSTART;TZID=America/Chicago:20250826T180000
DTEND;TZID=America/Chicago:20250826T200000
DTSTAMP:20260424T162731
CREATED:20250720T152415Z
LAST-MODIFIED:20250720T152415Z
UID:10147-1756231200-1756238400@lindenwoodpark.org
SUMMARY:Meetup At Babe's Tavern
DESCRIPTION:Are you new to our neighborhood and curious about what a meetup is?  It’s just a happy hour\, a time to chill\, a chance to meet people from our neighborhood\, an opportunity to try out a local restaurant that you perhaps have never been to before.  There’s no agenda.  It’s not a “meeting”.  Stay as long as you like but pay for your own food and drinks.
URL:https://lindenwoodpark.org/events/meetup-at-babes-tavern-3/
LOCATION:Babe’s Tavern\, 3215 Ivanhoe Ave.\, St. Louis\, 63139\, United States
CATEGORIES:Neighborhood Events
ORGANIZER;CN="Lisa Roggeman":MAILTO:lisa@lindenwoodpark.org
END:VEVENT
BEGIN:VEVENT
DTSTART;TZID=America/Chicago:20250816T100000
DTEND;TZID=America/Chicago:20250816T120000
DTSTAMP:20260424T162731
CREATED:20250106T175549Z
LAST-MODIFIED:20250106T175549Z
UID:9946-1755338400-1755345600@lindenwoodpark.org
SUMMARY:LPNA Board Meeting
DESCRIPTION:Board meetings are open to the public. If you would like to attend\, please email Adam Rustige\, adam@lindenwoodpark.org.
URL:https://lindenwoodpark.org/events/lpna-board-meeting-34/
LOCATION:Machacek Library\, 6424 Scanlan Ave\, Saint Louis\, 63139\, United States
CATEGORIES:Association Events
ORGANIZER;CN="Adam Rustige":MAILTO:adam@lindenwoodpark.org
END:VEVENT
BEGIN:VEVENT
DTSTART;TZID=America/Chicago:20250803T180000
DTEND;TZID=America/Chicago:20250803T200000
DTSTAMP:20260424T162731
CREATED:20241229T150020Z
LAST-MODIFIED:20241229T150020Z
UID:9926-1754244000-1754251200@lindenwoodpark.org
SUMMARY:Lindenwood Live!
DESCRIPTION:Gather up your neighbors and friends and come enjoy a great local band. \nAnd don’t forget the food trucks! \nThe food trucks begin serving at 5pm
URL:https://lindenwoodpark.org/events/lindenwood-live-11/
LOCATION:Lindenwood Park\, Pernod Avenue & Jamieson Avenue\, Saint Louis\, 63139\, United States
CATEGORIES:Association Events,Neighborhood Events
ORGANIZER;CN="Tim Nowell":MAILTO:tim@lindenwoodpark.org
END:VEVENT
BEGIN:VEVENT
DTSTART;TZID=America/Chicago:20250726T190000
DTEND;TZID=America/Chicago:20250726T220000
DTSTAMP:20260424T162731
CREATED:20250106T233919Z
LAST-MODIFIED:20250106T233919Z
UID:9979-1753556400-1753567200@lindenwoodpark.org
SUMMARY:LPNA Trivia Night
DESCRIPTION:
URL:https://lindenwoodpark.org/events/lpna-trivia-night-4/
LOCATION:MO
CATEGORIES:Association Events,Neighborhood Events
ORGANIZER;CN="Pat Acquisto":MAILTO:pat@lindenwoodpark.org
END:VEVENT
BEGIN:VEVENT
DTSTART;TZID=America/Chicago:20250722T180000
DTEND;TZID=America/Chicago:20250722T200000
DTSTAMP:20260424T162731
CREATED:20250629T173356Z
LAST-MODIFIED:20250629T173356Z
UID:10131-1753207200-1753214400@lindenwoodpark.org
SUMMARY:Meetup At Chilanguita Mexican Kitchen
DESCRIPTION:Are you new to our neighborhood and curious about what a meetup is?  It’s just a happy hour\, a time to chill\, a chance to meet people from our neighborhood\, an opportunity to try out a local restaurant that you perhaps have never been to before.  There’s no agenda.  It’s not a “meeting”.  Stay as long as you like but pay for your own food and drinks.
URL:https://lindenwoodpark.org/events/meetup-at-chilanguita-mexican-kitchen-3/
LOCATION:Chilanguita Mexican Kitchen\, 6997 Chippewa St.\, St. Louis\, MO\, 63109\, United States
CATEGORIES:Neighborhood Events
ORGANIZER;CN="Lisa Roggeman":MAILTO:lisa@lindenwoodpark.org
END:VEVENT
BEGIN:VEVENT
DTSTART;TZID=America/Chicago:20250715T190000
DTEND;TZID=America/Chicago:20250715T210000
DTSTAMP:20260424T162731
CREATED:20250106T175233Z
LAST-MODIFIED:20250106T175233Z
UID:9944-1752606000-1752613200@lindenwoodpark.org
SUMMARY:LPNA Board Meeting
DESCRIPTION:Board meetings are open to the public. If you would like to attend\, please email Adam Rustige\, adam@lindenwoodpark.org.
URL:https://lindenwoodpark.org/events/lpna-board-meeting-33/
LOCATION:Epiphany of our Lord Catholic Church\, 3164 Ivanhoe\, Saint Louis\, 63139\, United States
CATEGORIES:Association Events
ORGANIZER;CN="Adam Rustige":MAILTO:adam@lindenwoodpark.org
END:VEVENT
BEGIN:VEVENT
DTSTART;TZID=America/Chicago:20250708T180000
DTEND;TZID=America/Chicago:20250708T190000
DTSTAMP:20260424T162731
CREATED:20250106T214217Z
LAST-MODIFIED:20250106T214217Z
UID:9960-1751997600-1752001200@lindenwoodpark.org
SUMMARY:Block Captain Meeting
DESCRIPTION:The Block Captain program is chaired by Laurie Klein. If you think you might be interested in becoming a Block Captain please complete this form or email blockcaptains@lindenwoodpark.org. Laurie will contact you to provide further information and answer any questions you might have.
URL:https://lindenwoodpark.org/events/block-captain-meeting-11/
LOCATION:Timothy Lutheran Church\, 6704 Fyler Ave.\, Saint Louis\, MO\, 63139\, United States
CATEGORIES:Association Events,Neighborhood Events
ORGANIZER;CN="Laurie Klein":MAILTO:blockcaptains@lindenwoodpark.org
END:VEVENT
BEGIN:VEVENT
DTSTART;TZID=America/Chicago:20250624T180000
DTEND;TZID=America/Chicago:20250624T200000
DTSTAMP:20260424T162731
CREATED:20250609T121039Z
LAST-MODIFIED:20250609T121039Z
UID:10092-1750788000-1750795200@lindenwoodpark.org
SUMMARY:Meetup At Pietro's
DESCRIPTION:Are you new to our neighborhood and curious about what a meetup is?  It’s just a happy hour\, a time to chill\, a chance to meet people from our neighborhood\, an opportunity to try out a local restaurant that you perhaps have never been to before.  There’s no agenda.  It’s not a “meeting”.  Stay as long as you like but pay for your own food and drinks.
URL:https://lindenwoodpark.org/events/meetup-at-pietros-3/
LOCATION:Pietro’s\, 3801 Watson Road\, Saint Louis\, 63139\, United States
CATEGORIES:Neighborhood Events
ORGANIZER;CN="Lisa Roggeman":MAILTO:lisa@lindenwoodpark.org
END:VEVENT
BEGIN:VEVENT
DTSTART;TZID=America/Chicago:20250622T180000
DTEND;TZID=America/Chicago:20250622T200000
DTSTAMP:20260424T162731
CREATED:20241229T145340Z
LAST-MODIFIED:20250619T170541Z
UID:9924-1750615200-1750622400@lindenwoodpark.org
SUMMARY:Lindenwood Live!
DESCRIPTION:Gather up your neighbors and friends and come enjoy a great local band. \nAnd don’t forget the food trucks! \nThe food trucks begin serving at 5pm
URL:https://lindenwoodpark.org/events/lindenwood-live-10/
LOCATION:Lindenwood Park\, Pernod Avenue & Jamieson Avenue\, Saint Louis\, 63139\, United States
CATEGORIES:Association Events,Neighborhood Events
ORGANIZER;CN="Tim Nowell":MAILTO:tim@lindenwoodpark.org
END:VEVENT
BEGIN:VEVENT
DTSTART;TZID=America/Chicago:20250607T090000
DTEND;TZID=America/Chicago:20250607T100000
DTSTAMP:20260424T162731
CREATED:20250106T225520Z
LAST-MODIFIED:20250106T225520Z
UID:9970-1749286800-1749290400@lindenwoodpark.org
SUMMARY:Green Team Highway Clean-Up
DESCRIPTION:We are looking for volunteers to help pick up trash from along highway I-44 and up to the fenced area.  We generally clean up from the Jamieson exit back towards the bridge (just under a mile).  Trash bags will be provided.  Bring gloves!  The more helpers we have\, the quicker we get done. \nPlease help us keep our neighborhood clean and tidy!  Children are welcome to help but must be accompanied by an adult and will not be allowed close to the highway\, but there’s usually plenty of trash along the fences.  All helpers must wear reflective vests (which will be provided). \n 
URL:https://lindenwoodpark.org/events/green-team-highway-clean-up-14/
LOCATION:I-44 Exit at Jamieson\, Interstate 44 & Jamieson\, St. Louis\, 63139\, United States
CATEGORIES:Neighborhood Events
ORGANIZER;CN="Tim Nowell":MAILTO:tim@lindenwoodpark.org
END:VEVENT
BEGIN:VEVENT
DTSTART;TZID=America/Chicago:20250602T190000
DTEND;TZID=America/Chicago:20250602T203000
DTSTAMP:20260424T162731
CREATED:20241118T233208Z
LAST-MODIFIED:20241118T233208Z
UID:9892-1748890800-1748896200@lindenwoodpark.org
SUMMARY:Quarterly Neighborhood Meeting
DESCRIPTION:Neighborhood meetings are held at Watson Terrace Christian Church\, 4205 Watson Road. \nMeetings are open to association members and Lindenwood residents. \nResidents can join the Association for an annual membership fee of $15 per household\, payable at any meeting or online at Lindenwoodpark.org/join. \nQuarterly meetings: Mingling begins at 7:00pm\, program promptly begins at 7:30 and ends by 9:00. \n 
URL:https://lindenwoodpark.org/events/quarterly-neighborhood-meeting-16/
LOCATION:Watson Terrace Christian Church\, 4205 Watson Road\, Saint Louis\, MO\, 63109\, United States
CATEGORIES:Association Events
ORGANIZER;CN="Adam Rustige":MAILTO:adam@lindenwoodpark.org
END:VEVENT
BEGIN:VEVENT
DTSTART;TZID=America/Chicago:20250527T180000
DTEND;TZID=America/Chicago:20250527T200000
DTSTAMP:20260424T162731
CREATED:20250423T013005Z
LAST-MODIFIED:20250414T132739Z
UID:10037-1748368800-1748376000@lindenwoodpark.org
SUMMARY:Meetup At Salt + Smoke
DESCRIPTION:Are you new to our neighborhood and curious about what a meetup is?  It’s just a happy hour\, a time to chill\, a chance to meet people from our neighborhood\, an opportunity to try out a local restaurant that you perhaps have never been to before.  There’s no agenda.  It’s not a “meeting”.  Stay as long as you like but pay for your own food and drinks.
URL:https://lindenwoodpark.org/events/meetup-at-salt-smoke/
LOCATION:Salt + Smoke\, 5625 Hampton Ave.\, St. Louis\, MO\, 63109\, United States
CATEGORIES:Neighborhood Events
ORGANIZER;CN="Lisa Roggeman":MAILTO:lisa@lindenwoodpark.org
END:VEVENT
BEGIN:VEVENT
DTSTART;TZID=America/Chicago:20250525T180000
DTEND;TZID=America/Chicago:20250525T200000
DTSTAMP:20260424T162731
CREATED:20241229T144836Z
LAST-MODIFIED:20241229T144836Z
UID:9921-1748196000-1748203200@lindenwoodpark.org
SUMMARY:Lindenwood Live!
DESCRIPTION:Gather up your neighbors and friends and come enjoy a great local band. \nAnd don’t forget the food trucks! \nThe food trucks begin serving at 5pm
URL:https://lindenwoodpark.org/events/lindenwood-live-9/
LOCATION:Lindenwood Park\, Pernod Avenue & Jamieson Avenue\, Saint Louis\, 63139\, United States
CATEGORIES:Association Events,Neighborhood Events
ORGANIZER;CN="Tim Nowell":MAILTO:tim@lindenwoodpark.org
END:VEVENT
BEGIN:VEVENT
DTSTART;TZID=America/Chicago:20250517T070000
DTEND;TZID=America/Chicago:20250517T130000
DTSTAMP:20260424T162731
CREATED:20250106T232648Z
LAST-MODIFIED:20250106T232648Z
UID:9976-1747465200-1747486800@lindenwoodpark.org
SUMMARY:LPNA Flea Market
DESCRIPTION:
URL:https://lindenwoodpark.org/events/lpna-flea-market-3/
LOCATION:Watson Terrace Christian Church\, 4205 Watson Road\, Saint Louis\, MO\, 63109\, United States
CATEGORIES:Association Events,Neighborhood Events
ORGANIZER;CN="Lisa Roggeman":MAILTO:lisa@lindenwoodpark.org
END:VEVENT
BEGIN:VEVENT
DTSTART;TZID=America/Chicago:20250510T100000
DTEND;TZID=America/Chicago:20250510T120000
DTSTAMP:20260424T162731
CREATED:20250106T172237Z
LAST-MODIFIED:20250109T172742Z
UID:9942-1746871200-1746878400@lindenwoodpark.org
SUMMARY:LPNA Board Meeting
DESCRIPTION:Board meetings are open to the public. If you would like to attend\, please email Adam Rustige\, adam@lindenwoodpark.org.
URL:https://lindenwoodpark.org/events/lpna-board-meeting-32/
LOCATION:Machacek Library\, 6424 Scanlan Ave\, Saint Louis\, 63139\, United States
CATEGORIES:Association Events
ORGANIZER;CN="Adam Rustige":MAILTO:adam@lindenwoodpark.org
END:VEVENT
BEGIN:VEVENT
DTSTART;TZID=America/Chicago:20250426T090000
DTEND;TZID=America/Chicago:20250426T100000
DTSTAMP:20260424T162731
CREATED:20250106T225001Z
LAST-MODIFIED:20250416T112507Z
UID:9968-1745658000-1745661600@lindenwoodpark.org
SUMMARY:Green Team Highway Clean-Up
DESCRIPTION:We are looking for volunteers to help pick up trash from along highway I-44 and up to the fenced area.  We generally clean up from the Jamieson exit back towards the bridge (just under a mile).  Trash bags will be provided.  Bring gloves!  The more helpers we have\, the quicker we get done. \nPlease help us keep our neighborhood clean and tidy!  Children are welcome to help but must be accompanied by an adult and will not be allowed close to the highway\, but there’s usually plenty of trash along the fences.  All helpers must wear reflective vests (which will be provided). \n 
URL:https://lindenwoodpark.org/events/green-team-highway-clean-up-8/
LOCATION:I-44 Exit at Jamieson\, Interstate 44 & Jamieson\, St. Louis\, 63139\, United States
CATEGORIES:Neighborhood Events
ORGANIZER;CN="Tim Nowell":MAILTO:tim@lindenwoodpark.org
END:VEVENT
BEGIN:VEVENT
DTSTART;TZID=America/Chicago:20250422T180000
DTEND;TZID=America/Chicago:20250422T200000
DTSTAMP:20260424T162731
CREATED:20250323T161235Z
LAST-MODIFIED:20250323T161235Z
UID:10026-1745344800-1745352000@lindenwoodpark.org
SUMMARY:Meetup At El Paisano Mexican Restaurant
DESCRIPTION:Are you new to our neighborhood and curious about what a meetup is?  It’s just a happy hour\, a time to chill\, a chance to meet people from our neighborhood\, an opportunity to try out a local restaurant that you perhaps have never been to before.  There’s no agenda.  It’s not a “meeting”.  Stay as long as you like but pay for your own food and drinks.
URL:https://lindenwoodpark.org/events/meetup-at-el-paisano-mexican-restaurant-2/
LOCATION:El Paisano\, 3315 Watson Road\, Saint Louis\, 63139\, United States
CATEGORIES:Neighborhood Events
ORGANIZER;CN="Lisa Roggeman":MAILTO:lisa@lindenwoodpark.org
END:VEVENT
BEGIN:VEVENT
DTSTART;TZID=America/Chicago:20250415T190000
DTEND;TZID=America/Chicago:20250415T210000
DTSTAMP:20260424T162731
CREATED:20250106T171901Z
LAST-MODIFIED:20250106T171901Z
UID:9940-1744743600-1744750800@lindenwoodpark.org
SUMMARY:LPNA Board Meeting
DESCRIPTION:Board meetings are open to the public. If you would like to attend\, please email Adam Rustige\, adam@lindenwoodpark.org.
URL:https://lindenwoodpark.org/events/lpna-board-meeting-31/
LOCATION:Epiphany of our Lord Catholic Church\, 3164 Ivanhoe\, Saint Louis\, 63139\, United States
CATEGORIES:Association Events
ORGANIZER;CN="Adam Rustige":MAILTO:adam@lindenwoodpark.org
END:VEVENT
BEGIN:VEVENT
DTSTART;TZID=America/Chicago:20250408T180000
DTEND;TZID=America/Chicago:20250408T190000
DTSTAMP:20260424T162731
CREATED:20250106T213723Z
LAST-MODIFIED:20250106T213723Z
UID:9958-1744135200-1744138800@lindenwoodpark.org
SUMMARY:Block Captain Meeting
DESCRIPTION:The Block Captain program is chaired by Laurie Klein. If you think you might be interested in becoming a Block Captain please complete this form or email blockcaptains@lindenwoodpark.org. Laurie will contact you to provide further information and answer any questions you might have.
URL:https://lindenwoodpark.org/events/block-captain-meeting-10/
LOCATION:Timothy Lutheran Church\, 6704 Fyler Ave.\, Saint Louis\, MO\, 63139\, United States
CATEGORIES:Association Events,Neighborhood Events
ORGANIZER;CN="Laurie Klein":MAILTO:blockcaptains@lindenwoodpark.org
END:VEVENT
BEGIN:VEVENT
DTSTART;TZID=America/Chicago:20250326T180000
DTEND;TZID=America/Chicago:20250326T200000
DTSTAMP:20260424T162731
CREATED:20250323T160903Z
LAST-MODIFIED:20250323T160903Z
UID:10024-1743012000-1743019200@lindenwoodpark.org
SUMMARY:Meetup At Afghan Kabob House
DESCRIPTION:Are you new to our neighborhood and curious about what a meetup is?  It’s just a happy hour\, a time to chill\, a chance to meet people from our neighborhood\, an opportunity to try out a local restaurant that you perhaps have never been to before.  There’s no agenda.  It’s not a “meeting”.  Stay as long as you like but pay for your own food and drinks.
URL:https://lindenwoodpark.org/events/meetup-at-afghan-kabob-house-2/
LOCATION:Afghan Kabob House\, 3500 Watson Road\, St. Louis\, MO\, 63139\, United States
CATEGORIES:Neighborhood Events
ORGANIZER;CN="Lisa Roggeman":MAILTO:lisa@lindenwoodpark.org
END:VEVENT
BEGIN:VEVENT
DTSTART;TZID=America/Chicago:20250315T090000
DTEND;TZID=America/Chicago:20250315T120000
DTSTAMP:20260424T162731
CREATED:20250106T222822Z
LAST-MODIFIED:20250106T222822Z
UID:9964-1742029200-1742040000@lindenwoodpark.org
SUMMARY:Spring Park Clean-Up
DESCRIPTION:Our annual spring park clean-up will get Lindenwood Park spruced up and ready for summer events. \nWe value any time you want to volunteer. We meet at 9:00am and generally work until noon\, but will take an hour\, or whatever time you can spare to help. \nPlease bring hand tools such as a rake\, shovel\, or broom\, and gloves. Wheelbarrows are also always helpful. \nTwice a year\, spring and fall\, we get together in the park to tidy up the park. \nThis is a great service project for groups\, if you are looking for an opportunity for your scouts\, school\, club or church.
URL:https://lindenwoodpark.org/events/spring-park-clean-up-5/
LOCATION:Lindenwood Park\, Pernod Avenue & Jamieson Avenue\, Saint Louis\, 63139\, United States
CATEGORIES:Association Events,Neighborhood Events
ORGANIZER;CN="Park Committee":MAILTO:park@lindenwoodpark.org
END:VEVENT
END:VCALENDAR